BEGIN:VCALENDAR
VERSION:2.0
PRODID:-//Deutsche Gesellschaft für Osteogenesis imperfecta (Glasknochen) Betroffene e.V. - ECPv6.15.20//NONSGML v1.0//EN
CALSCALE:GREGORIAN
METHOD:PUBLISH
X-WR-CALNAME:Deutsche Gesellschaft für Osteogenesis imperfecta (Glasknochen) Betroffene e.V.
X-ORIGINAL-URL:https://oi-gesellschaft.de
X-WR-CALDESC:Veranstaltungen für Deutsche Gesellschaft für Osteogenesis imperfecta (Glasknochen) Betroffene e.V.
REFRESH-INTERVAL;VALUE=DURATION:PT1H
X-Robots-Tag:noindex
X-PUBLISHED-TTL:PT1H
BEGIN:VTIMEZONE
TZID:Europe/Berlin
BEGIN:DAYLIGHT
TZOFFSETFROM:+0100
TZOFFSETTO:+0200
TZNAME:CEST
DTSTART:20210328T010000
END:DAYLIGHT
BEGIN:STANDARD
TZOFFSETFROM:+0200
TZOFFSETTO:+0100
TZNAME:CET
DTSTART:20211031T010000
END:STANDARD
BEGIN:DAYLIGHT
TZOFFSETFROM:+0100
TZOFFSETTO:+0200
TZNAME:CEST
DTSTART:20220327T010000
END:DAYLIGHT
BEGIN:STANDARD
TZOFFSETFROM:+0200
TZOFFSETTO:+0100
TZNAME:CET
DTSTART:20221030T010000
END:STANDARD
BEGIN:DAYLIGHT
TZOFFSETFROM:+0100
TZOFFSETTO:+0200
TZNAME:CEST
DTSTART:20230326T010000
END:DAYLIGHT
BEGIN:STANDARD
TZOFFSETFROM:+0200
TZOFFSETTO:+0100
TZNAME:CET
DTSTART:20231029T010000
END:STANDARD
END:VTIMEZONE
BEGIN:VEVENT
DTSTART;TZID=Europe/Berlin:20220528T170000
DTEND;TZID=Europe/Berlin:20220528T183000
DTSTAMP:20260423T040334
CREATED:20220412T174120Z
LAST-MODIFIED:20220528T153958Z
UID:10651-1653757200-1653762600@oi-gesellschaft.de
SUMMARY:Offene Ergotherapie-/Hilfsmittel-Sprechstunde (online) mit Inga Oppermann – entfällt –
DESCRIPTION:um 17:00 Uhr bis 18:30
URL:https://oi-gesellschaft.de/event/offene-ergotherapie-hilfsmittel-sprechstunde-online-mit-inga-oppermann-2/
END:VEVENT
END:VCALENDAR