BEGIN:VCALENDAR
VERSION:2.0
PRODID:-//Deutsche Gesellschaft für Osteogenesis imperfecta (Glasknochen) Betroffene e.V. - ECPv6.15.20//NONSGML v1.0//EN
CALSCALE:GREGORIAN
METHOD:PUBLISH
X-ORIGINAL-URL:https://oi-gesellschaft.de
X-WR-CALDESC:Veranstaltungen für Deutsche Gesellschaft für Osteogenesis imperfecta (Glasknochen) Betroffene e.V.
REFRESH-INTERVAL;VALUE=DURATION:PT1H
X-Robots-Tag:noindex
X-PUBLISHED-TTL:PT1H
BEGIN:VTIMEZONE
TZID:Europe/Berlin
BEGIN:DAYLIGHT
TZOFFSETFROM:+0100
TZOFFSETTO:+0200
TZNAME:CEST
DTSTART:20210328T010000
END:DAYLIGHT
BEGIN:STANDARD
TZOFFSETFROM:+0200
TZOFFSETTO:+0100
TZNAME:CET
DTSTART:20211031T010000
END:STANDARD
BEGIN:DAYLIGHT
TZOFFSETFROM:+0100
TZOFFSETTO:+0200
TZNAME:CEST
DTSTART:20220327T010000
END:DAYLIGHT
BEGIN:STANDARD
TZOFFSETFROM:+0200
TZOFFSETTO:+0100
TZNAME:CET
DTSTART:20221030T010000
END:STANDARD
BEGIN:DAYLIGHT
TZOFFSETFROM:+0100
TZOFFSETTO:+0200
TZNAME:CEST
DTSTART:20230326T010000
END:DAYLIGHT
BEGIN:STANDARD
TZOFFSETFROM:+0200
TZOFFSETTO:+0100
TZNAME:CET
DTSTART:20231029T010000
END:STANDARD
END:VTIMEZONE
BEGIN:VEVENT
DTSTART;VALUE=DATE:20220623
DTEND;VALUE=DATE:20220626
DTSTAMP:20260423T022901
CREATED:20210920T232103Z
LAST-MODIFIED:20220625T235812Z
UID:6617-1655942400-1656201599@oi-gesellschaft.de
SUMMARY:REHAB Messe
DESCRIPTION:
URL:https://oi-gesellschaft.de/event/rehab-messe/
LOCATION:Karlsruhe\, Deutschland
END:VEVENT
BEGIN:VEVENT
DTSTART;TZID=Europe/Berlin:20220625T170000
DTEND;TZID=Europe/Berlin:20220625T183000
DTSTAMP:20260423T022901
CREATED:20220412T174121Z
LAST-MODIFIED:20220625T161256Z
UID:10652-1656176400-1656181800@oi-gesellschaft.de
SUMMARY:Offene Ergotherapie-/Hilfsmittel-Sprechstunde (online) mit Inga Oppermann
DESCRIPTION:um 17:00 Uhr bis 18:30
URL:https://oi-gesellschaft.de/event/offene-ergotherapie-hilfsmittel-sprechstunde-online-mit-inga-oppermann-3/
END:VEVENT
END:VCALENDAR