BEGIN:VCALENDAR
VERSION:2.0
PRODID:-//Deutsche Gesellschaft für Osteogenesis imperfecta (Glasknochen) Betroffene e.V. - ECPv6.15.20//NONSGML v1.0//EN
CALSCALE:GREGORIAN
METHOD:PUBLISH
X-ORIGINAL-URL:https://oi-gesellschaft.de
X-WR-CALDESC:Veranstaltungen für Deutsche Gesellschaft für Osteogenesis imperfecta (Glasknochen) Betroffene e.V.
REFRESH-INTERVAL;VALUE=DURATION:PT1H
X-Robots-Tag:noindex
X-PUBLISHED-TTL:PT1H
BEGIN:VTIMEZONE
TZID:Europe/Berlin
BEGIN:DAYLIGHT
TZOFFSETFROM:+0100
TZOFFSETTO:+0200
TZNAME:CEST
DTSTART:20210328T010000
END:DAYLIGHT
BEGIN:STANDARD
TZOFFSETFROM:+0200
TZOFFSETTO:+0100
TZNAME:CET
DTSTART:20211031T010000
END:STANDARD
BEGIN:DAYLIGHT
TZOFFSETFROM:+0100
TZOFFSETTO:+0200
TZNAME:CEST
DTSTART:20220327T010000
END:DAYLIGHT
BEGIN:STANDARD
TZOFFSETFROM:+0200
TZOFFSETTO:+0100
TZNAME:CET
DTSTART:20221030T010000
END:STANDARD
BEGIN:DAYLIGHT
TZOFFSETFROM:+0100
TZOFFSETTO:+0200
TZNAME:CEST
DTSTART:20230326T010000
END:DAYLIGHT
BEGIN:STANDARD
TZOFFSETFROM:+0200
TZOFFSETTO:+0100
TZNAME:CET
DTSTART:20231029T010000
END:STANDARD
END:VTIMEZONE
BEGIN:VEVENT
DTSTART;VALUE=DATE:20220908
DTEND;VALUE=DATE:20220912
DTSTAMP:20260422T222918
CREATED:20220413T074250Z
LAST-MODIFIED:20220911T231450Z
UID:10691-1662595200-1662940799@oi-gesellschaft.de
SUMMARY:LV BAY + LV BaWü – Jugendwochenende in Regensburg
DESCRIPTION:
URL:https://oi-gesellschaft.de/event/lv-bay-lv-bawue-jugendwochenende-in-regensburg/
END:VEVENT
BEGIN:VEVENT
DTSTART;VALUE=DATE:20220909
DTEND;VALUE=DATE:20220912
DTSTAMP:20260422T222918
CREATED:20211101T124532Z
LAST-MODIFIED:20220911T231450Z
UID:6773-1662681600-1662940799@oi-gesellschaft.de
SUMMARY:LV OST – Herbsttreffen + MV
DESCRIPTION:Potsdam Hotel Ascot Bristol
URL:https://oi-gesellschaft.de/event/herbsttreffen-mv-lv-ost/
END:VEVENT
BEGIN:VEVENT
DTSTART;VALUE=DATE:20220910
DTEND;VALUE=DATE:20220912
DTSTAMP:20260422T222918
CREATED:20220810T160014Z
LAST-MODIFIED:20220911T231450Z
UID:13808-1662768000-1662940799@oi-gesellschaft.de
SUMMARY:LV HRS Mitgliederwochenende mit MV
DESCRIPTION:
URL:https://oi-gesellschaft.de/event/lv-hrs-mitgliederwochenende-mit-mv/
LOCATION:Frankfurt am Main\nHessen\, Deutschland
END:VEVENT
END:VCALENDAR