BEGIN:VCALENDAR
VERSION:2.0
PRODID:-//Deutsche Gesellschaft für Osteogenesis imperfecta (Glasknochen) Betroffene e.V. - ECPv6.15.20//NONSGML v1.0//EN
CALSCALE:GREGORIAN
METHOD:PUBLISH
X-ORIGINAL-URL:https://oi-gesellschaft.de
X-WR-CALDESC:Veranstaltungen für Deutsche Gesellschaft für Osteogenesis imperfecta (Glasknochen) Betroffene e.V.
REFRESH-INTERVAL;VALUE=DURATION:PT1H
X-Robots-Tag:noindex
X-PUBLISHED-TTL:PT1H
BEGIN:VTIMEZONE
TZID:Europe/Berlin
BEGIN:DAYLIGHT
TZOFFSETFROM:+0100
TZOFFSETTO:+0200
TZNAME:CEST
DTSTART:20220327T010000
END:DAYLIGHT
BEGIN:STANDARD
TZOFFSETFROM:+0200
TZOFFSETTO:+0100
TZNAME:CET
DTSTART:20221030T010000
END:STANDARD
BEGIN:DAYLIGHT
TZOFFSETFROM:+0100
TZOFFSETTO:+0200
TZNAME:CEST
DTSTART:20230326T010000
END:DAYLIGHT
BEGIN:STANDARD
TZOFFSETFROM:+0200
TZOFFSETTO:+0100
TZNAME:CET
DTSTART:20231029T010000
END:STANDARD
BEGIN:DAYLIGHT
TZOFFSETFROM:+0100
TZOFFSETTO:+0200
TZNAME:CEST
DTSTART:20240331T010000
END:DAYLIGHT
BEGIN:STANDARD
TZOFFSETFROM:+0200
TZOFFSETTO:+0100
TZNAME:CET
DTSTART:20241027T010000
END:STANDARD
END:VTIMEZONE
BEGIN:VEVENT
DTSTART;TZID=Europe/Berlin:20230225T100000
DTEND;TZID=Europe/Berlin:20230225T113500
DTSTAMP:20260422T151711
CREATED:20230224T224200Z
LAST-MODIFIED:20230224T224200Z
UID:27981-1677319200-1677324900@oi-gesellschaft.de
SUMMARY:Tag der Seltenen Erkrankungen am UKE: Hilfe im Dschungel der\nVersorgungsstrukturen
DESCRIPTION:Online-Kurzvorträge mit interaktiver Diskussionsrunde. Claudia Finis (Dipl. Psych.) und Gesundheitspolitische Beauftragte der DOIG hält einen Vortrag um 10:45 Uhr: „Erfahrungsbericht: Antragstellung bei Leistungsträgern/Verischerungen“
URL:https://oi-gesellschaft.de/event/tag-der-seltenen-erkrankungen-am-uke-hilfe-im-dschungel-derversorgungsstrukturen/
LOCATION:Online
END:VEVENT
END:VCALENDAR