BEGIN:VCALENDAR
VERSION:2.0
PRODID:-//Deutsche Gesellschaft für Osteogenesis imperfecta (Glasknochen) Betroffene e.V. - ECPv6.15.20//NONSGML v1.0//EN
CALSCALE:GREGORIAN
METHOD:PUBLISH
X-WR-CALNAME:Deutsche Gesellschaft für Osteogenesis imperfecta (Glasknochen) Betroffene e.V.
X-ORIGINAL-URL:https://oi-gesellschaft.de
X-WR-CALDESC:Veranstaltungen für Deutsche Gesellschaft für Osteogenesis imperfecta (Glasknochen) Betroffene e.V.
REFRESH-INTERVAL;VALUE=DURATION:PT1H
X-Robots-Tag:noindex
X-PUBLISHED-TTL:PT1H
BEGIN:VTIMEZONE
TZID:Europe/Berlin
BEGIN:DAYLIGHT
TZOFFSETFROM:+0100
TZOFFSETTO:+0200
TZNAME:CEST
DTSTART:20220327T010000
END:DAYLIGHT
BEGIN:STANDARD
TZOFFSETFROM:+0200
TZOFFSETTO:+0100
TZNAME:CET
DTSTART:20221030T010000
END:STANDARD
BEGIN:DAYLIGHT
TZOFFSETFROM:+0100
TZOFFSETTO:+0200
TZNAME:CEST
DTSTART:20230326T010000
END:DAYLIGHT
BEGIN:STANDARD
TZOFFSETFROM:+0200
TZOFFSETTO:+0100
TZNAME:CET
DTSTART:20231029T010000
END:STANDARD
BEGIN:DAYLIGHT
TZOFFSETFROM:+0100
TZOFFSETTO:+0200
TZNAME:CEST
DTSTART:20240331T010000
END:DAYLIGHT
BEGIN:STANDARD
TZOFFSETFROM:+0200
TZOFFSETTO:+0100
TZNAME:CET
DTSTART:20241027T010000
END:STANDARD
END:VTIMEZONE
BEGIN:VEVENT
DTSTART;VALUE=DATE:20230330
DTEND;VALUE=DATE:20230331
DTSTAMP:20260422T120336
CREATED:20221107T121549Z
LAST-MODIFIED:20230330T221008Z
UID:27182-1680134400-1680220799@oi-gesellschaft.de
SUMMARY:Redaktionsschluss Durchbruch 02/23
DESCRIPTION:
URL:https://oi-gesellschaft.de/event/redaktionsschluss-durchbruch-02-23/
END:VEVENT
BEGIN:VEVENT
DTSTART;TZID=Europe/Berlin:20230330T200000
DTEND;TZID=Europe/Berlin:20230330T233000
DTSTAMP:20260422T120336
CREATED:20230328T220943Z
LAST-MODIFIED:20230329T220930Z
UID:28310-1680206400-1680219000@oi-gesellschaft.de
SUMMARY:OI Stammtisch online
DESCRIPTION:DOIG Stammtisch\, offen für alle\, neue Gäste willkommen\, Link bei siri.gottschling@oi-gesellschaft.de anfordern  🙂
URL:https://oi-gesellschaft.de/event/oi-stammtisch-online-98/
END:VEVENT
END:VCALENDAR