BEGIN:VCALENDAR
VERSION:2.0
PRODID:-//Deutsche Gesellschaft für Osteogenesis imperfecta (Glasknochen) Betroffene e.V. - ECPv6.15.20//NONSGML v1.0//EN
CALSCALE:GREGORIAN
METHOD:PUBLISH
X-ORIGINAL-URL:https://oi-gesellschaft.de
X-WR-CALDESC:Veranstaltungen für Deutsche Gesellschaft für Osteogenesis imperfecta (Glasknochen) Betroffene e.V.
REFRESH-INTERVAL;VALUE=DURATION:PT1H
X-Robots-Tag:noindex
X-PUBLISHED-TTL:PT1H
BEGIN:VTIMEZONE
TZID:Europe/Berlin
BEGIN:DAYLIGHT
TZOFFSETFROM:+0100
TZOFFSETTO:+0200
TZNAME:CEST
DTSTART:20220327T010000
END:DAYLIGHT
BEGIN:STANDARD
TZOFFSETFROM:+0200
TZOFFSETTO:+0100
TZNAME:CET
DTSTART:20221030T010000
END:STANDARD
BEGIN:DAYLIGHT
TZOFFSETFROM:+0100
TZOFFSETTO:+0200
TZNAME:CEST
DTSTART:20230326T010000
END:DAYLIGHT
BEGIN:STANDARD
TZOFFSETFROM:+0200
TZOFFSETTO:+0100
TZNAME:CET
DTSTART:20231029T010000
END:STANDARD
BEGIN:DAYLIGHT
TZOFFSETFROM:+0100
TZOFFSETTO:+0200
TZNAME:CEST
DTSTART:20240331T010000
END:DAYLIGHT
BEGIN:STANDARD
TZOFFSETFROM:+0200
TZOFFSETTO:+0100
TZNAME:CET
DTSTART:20241027T010000
END:STANDARD
END:VTIMEZONE
BEGIN:VEVENT
DTSTART;VALUE=DATE:20230607
DTEND;VALUE=DATE:20230612
DTSTAMP:20260422T101651
CREATED:20221004T123758Z
LAST-MODIFIED:20230611T232648Z
UID:26987-1686096000-1686527999@oi-gesellschaft.de
SUMMARY:DOIG-Jahrestagung Duderstadt
DESCRIPTION:
URL:https://oi-gesellschaft.de/event/doig-jahrestagung-duderstadt/
END:VEVENT
BEGIN:VEVENT
DTSTART;VALUE=DATE:20230609
DTEND;VALUE=DATE:20230611
DTSTAMP:20260422T101651
CREATED:20230125T192710Z
LAST-MODIFIED:20230610T232454Z
UID:27735-1686268800-1686441599@oi-gesellschaft.de
SUMMARY:OIFE Conference: Balancing Life with OI (auf Englisch)
DESCRIPTION:https://oife.org/what-we-do/events/stockholm-2023/
URL:https://oi-gesellschaft.de/event/oife-conference-balancing-life-with-oi-auf-englisch/
LOCATION:Stockholm\nSchweden
END:VEVENT
BEGIN:VEVENT
DTSTART;VALUE=DATE:20230609
DTEND;VALUE=DATE:20230611
DTSTAMP:20260422T101651
CREATED:20230328T220946Z
LAST-MODIFIED:20230610T232455Z
UID:28321-1686268800-1686441599@oi-gesellschaft.de
SUMMARY:Forschungssymposium der Eva Luise und Horst Köhler Stiftung /Verleihung des Eva Luise Köhler Forschungspreis 2023\, Berlin
DESCRIPTION:
URL:https://oi-gesellschaft.de/event/forschungssymposium-der-eva-luise-und-horst-koehler-stiftung-verleihung-des-eva-luise-koehler-forschungspreis-2023-berlin/
END:VEVENT
END:VCALENDAR