BEGIN:VCALENDAR
VERSION:2.0
PRODID:-//Deutsche Gesellschaft für Osteogenesis imperfecta (Glasknochen) Betroffene e.V. - ECPv6.15.20//NONSGML v1.0//EN
CALSCALE:GREGORIAN
METHOD:PUBLISH
X-WR-CALNAME:Deutsche Gesellschaft für Osteogenesis imperfecta (Glasknochen) Betroffene e.V.
X-ORIGINAL-URL:https://oi-gesellschaft.de
X-WR-CALDESC:Veranstaltungen für Deutsche Gesellschaft für Osteogenesis imperfecta (Glasknochen) Betroffene e.V.
REFRESH-INTERVAL;VALUE=DURATION:PT1H
X-Robots-Tag:noindex
X-PUBLISHED-TTL:PT1H
BEGIN:VTIMEZONE
TZID:Europe/Berlin
BEGIN:DAYLIGHT
TZOFFSETFROM:+0100
TZOFFSETTO:+0200
TZNAME:CEST
DTSTART:20220327T010000
END:DAYLIGHT
BEGIN:STANDARD
TZOFFSETFROM:+0200
TZOFFSETTO:+0100
TZNAME:CET
DTSTART:20221030T010000
END:STANDARD
BEGIN:DAYLIGHT
TZOFFSETFROM:+0100
TZOFFSETTO:+0200
TZNAME:CEST
DTSTART:20230326T010000
END:DAYLIGHT
BEGIN:STANDARD
TZOFFSETFROM:+0200
TZOFFSETTO:+0100
TZNAME:CET
DTSTART:20231029T010000
END:STANDARD
BEGIN:DAYLIGHT
TZOFFSETFROM:+0100
TZOFFSETTO:+0200
TZNAME:CEST
DTSTART:20240331T010000
END:DAYLIGHT
BEGIN:STANDARD
TZOFFSETFROM:+0200
TZOFFSETTO:+0100
TZNAME:CET
DTSTART:20241027T010000
END:STANDARD
END:VTIMEZONE
BEGIN:VEVENT
DTSTART;TZID=Europe/Berlin:20230920T190000
DTEND;TZID=Europe/Berlin:20230920T203000
DTSTAMP:20260422T044535
CREATED:20230806T155053Z
LAST-MODIFIED:20230829T235432Z
UID:29553-1695236400-1695241800@oi-gesellschaft.de
SUMMARY:LV Nord: Einsichtsrechte in Patientenunterlagen. Online-Vortrag mit RA Anja Bollmann
DESCRIPTION:Anmeldung bitte per E-Mail bis 18. September an Kerstin Prigge\nHaben Sie sich schon einmal überlegt\, was von einem Arzt-Patienten-Gespräch in Ihrer Patientenakte steht? Was muss in der Akte stehen? Hat man als Patient/in die Möglichkeit\, in die eigene Akte zu sehen? Wer kann überhaupt alles Patientenakten einsehen? Kann die Einsichtnahme auch verweigert werden? Was hält der Arzt/ die Ärztin davon? Fragen über Fragen\, die wir im Rahmen der Veranstaltung besprechen werden.
URL:https://oi-gesellschaft.de/event/lv-nord-einsichtsrechte-in-patientenunterlagen-online-vortrag-mit-ra-anja-bollmann/
END:VEVENT
END:VCALENDAR