BEGIN:VCALENDAR
VERSION:2.0
PRODID:-//Deutsche Gesellschaft für Osteogenesis imperfecta (Glasknochen) Betroffene e.V. - ECPv6.15.20//NONSGML v1.0//EN
CALSCALE:GREGORIAN
METHOD:PUBLISH
X-WR-CALNAME:Deutsche Gesellschaft für Osteogenesis imperfecta (Glasknochen) Betroffene e.V.
X-ORIGINAL-URL:https://oi-gesellschaft.de
X-WR-CALDESC:Veranstaltungen für Deutsche Gesellschaft für Osteogenesis imperfecta (Glasknochen) Betroffene e.V.
REFRESH-INTERVAL;VALUE=DURATION:PT1H
X-Robots-Tag:noindex
X-PUBLISHED-TTL:PT1H
BEGIN:VTIMEZONE
TZID:Europe/Berlin
BEGIN:DAYLIGHT
TZOFFSETFROM:+0100
TZOFFSETTO:+0200
TZNAME:CEST
DTSTART:20220327T010000
END:DAYLIGHT
BEGIN:STANDARD
TZOFFSETFROM:+0200
TZOFFSETTO:+0100
TZNAME:CET
DTSTART:20221030T010000
END:STANDARD
BEGIN:DAYLIGHT
TZOFFSETFROM:+0100
TZOFFSETTO:+0200
TZNAME:CEST
DTSTART:20230326T010000
END:DAYLIGHT
BEGIN:STANDARD
TZOFFSETFROM:+0200
TZOFFSETTO:+0100
TZNAME:CET
DTSTART:20231029T010000
END:STANDARD
BEGIN:DAYLIGHT
TZOFFSETFROM:+0100
TZOFFSETTO:+0200
TZNAME:CEST
DTSTART:20240331T010000
END:DAYLIGHT
BEGIN:STANDARD
TZOFFSETFROM:+0200
TZOFFSETTO:+0100
TZNAME:CET
DTSTART:20241027T010000
END:STANDARD
END:VTIMEZONE
BEGIN:VEVENT
DTSTART;VALUE=DATE:20230922
DTEND;VALUE=DATE:20230925
DTSTAMP:20260422T044631
CREATED:20230413T061557Z
LAST-MODIFIED:20230829T235432Z
UID:28371-1695340800-1695599999@oi-gesellschaft.de
SUMMARY:LV NRW: Herbstagung
DESCRIPTION:
URL:https://oi-gesellschaft.de/event/lv-nrw-herbsttreffen/
LOCATION:Hotel FIT\nBerghausen 30\, 53804 Much\, Deutschland
END:VEVENT
BEGIN:VEVENT
DTSTART;VALUE=DATE:20230922
DTEND;VALUE=DATE:20230925
DTSTAMP:20260422T044631
CREATED:20230413T061557Z
LAST-MODIFIED:20230829T235432Z
UID:28372-1695340800-1695599999@oi-gesellschaft.de
SUMMARY:LV Ost: Herbsttreffen und MV
DESCRIPTION:
URL:https://oi-gesellschaft.de/event/lv-ost-herbsttreffen-und-mv/
END:VEVENT
BEGIN:VEVENT
DTSTART;VALUE=DATE:20230923
DTEND;VALUE=DATE:20230924
DTSTAMP:20260422T044631
CREATED:20230413T061557Z
LAST-MODIFIED:20230829T235432Z
UID:28369-1695427200-1695513599@oi-gesellschaft.de
SUMMARY:LV Nord: Aktionstag
DESCRIPTION:
URL:https://oi-gesellschaft.de/event/lv-nord-aktionstag-2/
LOCATION:Hagenbecks Tierpark\nHamburg\, Deutschland
END:VEVENT
END:VCALENDAR