BEGIN:VCALENDAR
VERSION:2.0
PRODID:-//Deutsche Gesellschaft für Osteogenesis imperfecta (Glasknochen) Betroffene e.V. - ECPv6.15.20//NONSGML v1.0//EN
CALSCALE:GREGORIAN
METHOD:PUBLISH
X-WR-CALNAME:Deutsche Gesellschaft für Osteogenesis imperfecta (Glasknochen) Betroffene e.V.
X-ORIGINAL-URL:https://oi-gesellschaft.de
X-WR-CALDESC:Veranstaltungen für Deutsche Gesellschaft für Osteogenesis imperfecta (Glasknochen) Betroffene e.V.
REFRESH-INTERVAL;VALUE=DURATION:PT1H
X-Robots-Tag:noindex
X-PUBLISHED-TTL:PT1H
BEGIN:VTIMEZONE
TZID:Europe/Berlin
BEGIN:DAYLIGHT
TZOFFSETFROM:+0100
TZOFFSETTO:+0200
TZNAME:CEST
DTSTART:20220327T010000
END:DAYLIGHT
BEGIN:STANDARD
TZOFFSETFROM:+0200
TZOFFSETTO:+0100
TZNAME:CET
DTSTART:20221030T010000
END:STANDARD
BEGIN:DAYLIGHT
TZOFFSETFROM:+0100
TZOFFSETTO:+0200
TZNAME:CEST
DTSTART:20230326T010000
END:DAYLIGHT
BEGIN:STANDARD
TZOFFSETFROM:+0200
TZOFFSETTO:+0100
TZNAME:CET
DTSTART:20231029T010000
END:STANDARD
BEGIN:DAYLIGHT
TZOFFSETFROM:+0100
TZOFFSETTO:+0200
TZNAME:CEST
DTSTART:20240331T010000
END:DAYLIGHT
BEGIN:STANDARD
TZOFFSETFROM:+0200
TZOFFSETTO:+0100
TZNAME:CET
DTSTART:20241027T010000
END:STANDARD
END:VTIMEZONE
BEGIN:VEVENT
DTSTART;VALUE=DATE:20230928
DTEND;VALUE=DATE:20230930
DTSTAMP:20260422T031620
CREATED:20221231T121616Z
LAST-MODIFIED:20230829T235433Z
UID:27606-1695859200-1696031999@oi-gesellschaft.de
SUMMARY:NAKSE (Nationale Konferenz zu Seltenen Erkrankungen)
DESCRIPTION:Programmflyer und Anmeldung: https://eveeno.com/nakse2023
URL:https://oi-gesellschaft.de/event/nakse-nationale-konferenz-zu-seltenen-erkrankungen/
LOCATION:Holiday Inn Berlin Airport Conference Center und online
END:VEVENT
BEGIN:VEVENT
DTSTART;TZID=Europe/Berlin:20230928T200000
DTEND;TZID=Europe/Berlin:20230928T233000
DTSTAMP:20260422T031620
CREATED:20230806T155054Z
LAST-MODIFIED:20230829T235433Z
UID:29555-1695931200-1695943800@oi-gesellschaft.de
SUMMARY:OI-Stammtisch online
DESCRIPTION:DOIG Stammtisch\, offen für alle\, neue Gäste willkommen\, Link bei siri.gottschling@oi-gesellschaft.de oder dominik.geiser@oi-gesellschaft.de anfordern  🙂
URL:https://oi-gesellschaft.de/event/oi-stammtisch-online-126/
END:VEVENT
END:VCALENDAR