BEGIN:VCALENDAR
VERSION:2.0
PRODID:-//Deutsche Gesellschaft für Osteogenesis imperfecta (Glasknochen) Betroffene e.V. - ECPv6.15.20//NONSGML v1.0//EN
CALSCALE:GREGORIAN
METHOD:PUBLISH
X-ORIGINAL-URL:https://oi-gesellschaft.de
X-WR-CALDESC:Veranstaltungen für Deutsche Gesellschaft für Osteogenesis imperfecta (Glasknochen) Betroffene e.V.
REFRESH-INTERVAL;VALUE=DURATION:PT1H
X-Robots-Tag:noindex
X-PUBLISHED-TTL:PT1H
BEGIN:VTIMEZONE
TZID:Europe/Berlin
BEGIN:DAYLIGHT
TZOFFSETFROM:+0100
TZOFFSETTO:+0200
TZNAME:CEST
DTSTART:20220327T010000
END:DAYLIGHT
BEGIN:STANDARD
TZOFFSETFROM:+0200
TZOFFSETTO:+0100
TZNAME:CET
DTSTART:20221030T010000
END:STANDARD
BEGIN:DAYLIGHT
TZOFFSETFROM:+0100
TZOFFSETTO:+0200
TZNAME:CEST
DTSTART:20230326T010000
END:DAYLIGHT
BEGIN:STANDARD
TZOFFSETFROM:+0200
TZOFFSETTO:+0100
TZNAME:CET
DTSTART:20231029T010000
END:STANDARD
BEGIN:DAYLIGHT
TZOFFSETFROM:+0100
TZOFFSETTO:+0200
TZNAME:CEST
DTSTART:20240331T010000
END:DAYLIGHT
BEGIN:STANDARD
TZOFFSETFROM:+0200
TZOFFSETTO:+0100
TZNAME:CET
DTSTART:20241027T010000
END:STANDARD
END:VTIMEZONE
BEGIN:VEVENT
DTSTART;VALUE=DATE:20231102
DTEND;VALUE=DATE:20231106
DTSTAMP:20260422T015702
CREATED:20230213T121808Z
LAST-MODIFIED:20231105T222507Z
UID:27856-1698883200-1699228799@oi-gesellschaft.de
SUMMARY:DOIG Jugendwochenende
DESCRIPTION:
URL:https://oi-gesellschaft.de/event/doig-jugendwochenende-3/
LOCATION:Köln
END:VEVENT
BEGIN:VEVENT
DTSTART;VALUE=DATE:20231103
DTEND;VALUE=DATE:20231105
DTSTAMP:20260422T015702
CREATED:20230816T225510Z
LAST-MODIFIED:20231103T220929Z
UID:29654-1698969600-1699142399@oi-gesellschaft.de
SUMMARY:ACHSE MV und Fachtagung
DESCRIPTION:
URL:https://oi-gesellschaft.de/event/achse-mv-und-fachtagung/
LOCATION:Berlin\nDeutschland
END:VEVENT
END:VCALENDAR