BEGIN:VCALENDAR
VERSION:2.0
PRODID:-//Deutsche Gesellschaft für Osteogenesis imperfecta (Glasknochen) Betroffene e.V. - ECPv6.15.20//NONSGML v1.0//EN
CALSCALE:GREGORIAN
METHOD:PUBLISH
X-WR-CALNAME:Deutsche Gesellschaft für Osteogenesis imperfecta (Glasknochen) Betroffene e.V.
X-ORIGINAL-URL:https://oi-gesellschaft.de
X-WR-CALDESC:Veranstaltungen für Deutsche Gesellschaft für Osteogenesis imperfecta (Glasknochen) Betroffene e.V.
REFRESH-INTERVAL;VALUE=DURATION:PT1H
X-Robots-Tag:noindex
X-PUBLISHED-TTL:PT1H
BEGIN:VTIMEZONE
TZID:Europe/Berlin
BEGIN:DAYLIGHT
TZOFFSETFROM:+0100
TZOFFSETTO:+0200
TZNAME:CEST
DTSTART:20230326T010000
END:DAYLIGHT
BEGIN:STANDARD
TZOFFSETFROM:+0200
TZOFFSETTO:+0100
TZNAME:CET
DTSTART:20231029T010000
END:STANDARD
BEGIN:DAYLIGHT
TZOFFSETFROM:+0100
TZOFFSETTO:+0200
TZNAME:CEST
DTSTART:20240331T010000
END:DAYLIGHT
BEGIN:STANDARD
TZOFFSETFROM:+0200
TZOFFSETTO:+0100
TZNAME:CET
DTSTART:20241027T010000
END:STANDARD
BEGIN:DAYLIGHT
TZOFFSETFROM:+0100
TZOFFSETTO:+0200
TZNAME:CEST
DTSTART:20250330T010000
END:DAYLIGHT
BEGIN:STANDARD
TZOFFSETFROM:+0200
TZOFFSETTO:+0100
TZNAME:CET
DTSTART:20251026T010000
END:STANDARD
END:VTIMEZONE
BEGIN:VEVENT
DTSTART;TZID=Europe/Berlin:20240116T190000
DTEND;TZID=Europe/Berlin:20240116T210000
DTSTAMP:20260421T231909
CREATED:20231229T223200Z
LAST-MODIFIED:20240115T224656Z
UID:30420-1705431600-1705438800@oi-gesellschaft.de
SUMMARY:Online-Männerrunde
DESCRIPTION:Die Männerrunde richtet sich an DOIG-Mitglieder\,Betroffene und Angehörige ab 18 Jahren. Der inhaltliche Fokus wird von denTeilnehmern selbst bestimmt. Am besten meldet ihr euch gleich an\, unter demBetreff „Männerrunde“\, mit eurem Vor- und Nachnamen per E-Mail ananmeldung@oi-gesellschaft.de. Rechtzeitig vor dem Treffen erhaltet ihr einenLink mit den Einwahldaten.
URL:https://oi-gesellschaft.de/event/online-maennerrunde/
END:VEVENT
END:VCALENDAR