BEGIN:VCALENDAR
VERSION:2.0
PRODID:-//Deutsche Gesellschaft für Osteogenesis imperfecta (Glasknochen) Betroffene e.V. - ECPv6.15.20//NONSGML v1.0//EN
CALSCALE:GREGORIAN
METHOD:PUBLISH
X-WR-CALNAME:Deutsche Gesellschaft für Osteogenesis imperfecta (Glasknochen) Betroffene e.V.
X-ORIGINAL-URL:https://oi-gesellschaft.de
X-WR-CALDESC:Veranstaltungen für Deutsche Gesellschaft für Osteogenesis imperfecta (Glasknochen) Betroffene e.V.
REFRESH-INTERVAL;VALUE=DURATION:PT1H
X-Robots-Tag:noindex
X-PUBLISHED-TTL:PT1H
BEGIN:VTIMEZONE
TZID:Europe/Berlin
BEGIN:DAYLIGHT
TZOFFSETFROM:+0100
TZOFFSETTO:+0200
TZNAME:CEST
DTSTART:20230326T010000
END:DAYLIGHT
BEGIN:STANDARD
TZOFFSETFROM:+0200
TZOFFSETTO:+0100
TZNAME:CET
DTSTART:20231029T010000
END:STANDARD
BEGIN:DAYLIGHT
TZOFFSETFROM:+0100
TZOFFSETTO:+0200
TZNAME:CEST
DTSTART:20240331T010000
END:DAYLIGHT
BEGIN:STANDARD
TZOFFSETFROM:+0200
TZOFFSETTO:+0100
TZNAME:CET
DTSTART:20241027T010000
END:STANDARD
BEGIN:DAYLIGHT
TZOFFSETFROM:+0100
TZOFFSETTO:+0200
TZNAME:CEST
DTSTART:20250330T010000
END:DAYLIGHT
BEGIN:STANDARD
TZOFFSETFROM:+0200
TZOFFSETTO:+0100
TZNAME:CET
DTSTART:20251026T010000
END:STANDARD
END:VTIMEZONE
BEGIN:VEVENT
DTSTART;TZID=Europe/Berlin:20240426T200000
DTEND;TZID=Europe/Berlin:20240426T210000
DTSTAMP:20260421T151639
CREATED:20231030T121212Z
LAST-MODIFIED:20240425T223529Z
UID:30166-1714161600-1714165200@oi-gesellschaft.de
SUMMARY:LV HRS: Elternrunde online (für alle Mitglieder)
DESCRIPTION:Der Landesverband Hessen – Rheinland-Pfalz – Saarland (HRS) lädt herzlich zu den kommenden Elternrunden ein! Sie treffen sich online\, um Erfahrungen zu teilen und sich gegenseitig zu unterstützen. Die Veranstaltungen stehen allen Mitgliedern offen\, unabhängig vom Landesverband. Anmeldung: Kontaktformular: https://oi-gesellschaft-hrs.de/kontakt
URL:https://oi-gesellschaft.de/event/lv-hrs-elternrunde-online-fuer-alle-mitglieder-3/
END:VEVENT
END:VCALENDAR