BEGIN:VCALENDAR
VERSION:2.0
PRODID:-//Deutsche Gesellschaft für Osteogenesis imperfecta (Glasknochen) Betroffene e.V. - ECPv6.15.20//NONSGML v1.0//EN
CALSCALE:GREGORIAN
METHOD:PUBLISH
X-ORIGINAL-URL:https://oi-gesellschaft.de
X-WR-CALDESC:Veranstaltungen für Deutsche Gesellschaft für Osteogenesis imperfecta (Glasknochen) Betroffene e.V.
REFRESH-INTERVAL;VALUE=DURATION:PT1H
X-Robots-Tag:noindex
X-PUBLISHED-TTL:PT1H
BEGIN:VTIMEZONE
TZID:Europe/Berlin
BEGIN:DAYLIGHT
TZOFFSETFROM:+0100
TZOFFSETTO:+0200
TZNAME:CEST
DTSTART:20230326T010000
END:DAYLIGHT
BEGIN:STANDARD
TZOFFSETFROM:+0200
TZOFFSETTO:+0100
TZNAME:CET
DTSTART:20231029T010000
END:STANDARD
BEGIN:DAYLIGHT
TZOFFSETFROM:+0100
TZOFFSETTO:+0200
TZNAME:CEST
DTSTART:20240331T010000
END:DAYLIGHT
BEGIN:STANDARD
TZOFFSETFROM:+0200
TZOFFSETTO:+0100
TZNAME:CET
DTSTART:20241027T010000
END:STANDARD
BEGIN:DAYLIGHT
TZOFFSETFROM:+0100
TZOFFSETTO:+0200
TZNAME:CEST
DTSTART:20250330T010000
END:DAYLIGHT
BEGIN:STANDARD
TZOFFSETFROM:+0200
TZOFFSETTO:+0100
TZNAME:CET
DTSTART:20251026T010000
END:STANDARD
END:VTIMEZONE
BEGIN:VEVENT
DTSTART;VALUE=DATE:20240428
DTEND;VALUE=DATE:20240504
DTSTAMP:20260421T133810
CREATED:20240213T224732Z
LAST-MODIFIED:20240503T232025Z
UID:30930-1714262400-1714780799@oi-gesellschaft.de
SUMMARY:LV Nord: Seminar: Loslassen – das Leben wartet nicht Für ein selbstbestimmtes Leben!
DESCRIPTION:Weitere Informationen: https://oi-nord.de/termindetails-2/seminar-in-cuxhaven-2024.html
URL:https://oi-gesellschaft.de/event/lv-nord-seminar-loslassen-das-leben-wartet-nicht-fuer-ein-selbstbestimmtes-leben/
LOCATION:Cuxhaven
END:VEVENT
BEGIN:VEVENT
DTSTART;VALUE=DATE:20240430
DTEND;VALUE=DATE:20240501
DTSTAMP:20260421T133811
CREATED:20240109T224659Z
LAST-MODIFIED:20240430T230518Z
UID:30462-1714435200-1714521599@oi-gesellschaft.de
SUMMARY:Anmeldeschluss DOIG-Jahrestagung 2024
DESCRIPTION:
URL:https://oi-gesellschaft.de/event/anmeldeschluss-doig-jahrestagung-2024/
END:VEVENT
BEGIN:VEVENT
DTSTART;TZID=Europe/Berlin:20240430T190000
DTEND;TZID=Europe/Berlin:20240430T213000
DTSTAMP:20260421T133811
CREATED:20240417T220212Z
LAST-MODIFIED:20240429T230522Z
UID:31367-1714503600-1714512600@oi-gesellschaft.de
SUMMARY:Frauenrunde mit Siri Gottschling
DESCRIPTION:
URL:https://oi-gesellschaft.de/event/frauenrunde-mit-siri-gottschling/
END:VEVENT
END:VCALENDAR