BEGIN:VCALENDAR
VERSION:2.0
PRODID:-//Deutsche Gesellschaft für Osteogenesis imperfecta (Glasknochen) Betroffene e.V. - ECPv6.15.20//NONSGML v1.0//EN
CALSCALE:GREGORIAN
METHOD:PUBLISH
X-WR-CALNAME:Deutsche Gesellschaft für Osteogenesis imperfecta (Glasknochen) Betroffene e.V.
X-ORIGINAL-URL:https://oi-gesellschaft.de
X-WR-CALDESC:Veranstaltungen für Deutsche Gesellschaft für Osteogenesis imperfecta (Glasknochen) Betroffene e.V.
REFRESH-INTERVAL;VALUE=DURATION:PT1H
X-Robots-Tag:noindex
X-PUBLISHED-TTL:PT1H
BEGIN:VTIMEZONE
TZID:Europe/Berlin
BEGIN:DAYLIGHT
TZOFFSETFROM:+0100
TZOFFSETTO:+0200
TZNAME:CEST
DTSTART:20250330T010000
END:DAYLIGHT
BEGIN:STANDARD
TZOFFSETFROM:+0200
TZOFFSETTO:+0100
TZNAME:CET
DTSTART:20251026T010000
END:STANDARD
BEGIN:DAYLIGHT
TZOFFSETFROM:+0100
TZOFFSETTO:+0200
TZNAME:CEST
DTSTART:20260329T010000
END:DAYLIGHT
BEGIN:STANDARD
TZOFFSETFROM:+0200
TZOFFSETTO:+0100
TZNAME:CET
DTSTART:20261025T010000
END:STANDARD
BEGIN:DAYLIGHT
TZOFFSETFROM:+0100
TZOFFSETTO:+0200
TZNAME:CEST
DTSTART:20270328T010000
END:DAYLIGHT
BEGIN:STANDARD
TZOFFSETFROM:+0200
TZOFFSETTO:+0100
TZNAME:CET
DTSTART:20271031T010000
END:STANDARD
END:VTIMEZONE
BEGIN:VEVENT
DTSTART;TZID=Europe/Berlin:20260408T183000
DTEND;TZID=Europe/Berlin:20260408T200000
DTSTAMP:20260421T123626
CREATED:20260213T130035Z
LAST-MODIFIED:20260407T222448Z
UID:36447-1775673000-1775678400@oi-gesellschaft.de
SUMMARY:LV Nord: Online Schulung Thema Recht: Mobilität ist Lebensqualität - Starke Rechte bei Glasknochen!
DESCRIPTION:In der90-minütigen online Schulung geht es darum\, wie Menschen mit Osteogenesisimperfecta die bürokratischen Mauern überwinden\, das Schwerbehindertenrechtverstehen und die neuesten Gesetzesänderungen zum eigenen Vorteil nutzenkönnen.
URL:https://oi-gesellschaft.de/event/lv-nord-online-schulung-thema-recht-mobilitaet-ist-lebensmittelqualitaet-starke-rechte-bei-glasknochen/
END:VEVENT
END:VCALENDAR