BEGIN:VCALENDAR
VERSION:2.0
PRODID:-//Deutsche Gesellschaft für Osteogenesis imperfecta (Glasknochen) Betroffene e.V. - ECPv6.15.20//NONSGML v1.0//EN
CALSCALE:GREGORIAN
METHOD:PUBLISH
X-ORIGINAL-URL:https://oi-gesellschaft.de
X-WR-CALDESC:Veranstaltungen für Deutsche Gesellschaft für Osteogenesis imperfecta (Glasknochen) Betroffene e.V.
REFRESH-INTERVAL;VALUE=DURATION:PT1H
X-Robots-Tag:noindex
X-PUBLISHED-TTL:PT1H
BEGIN:VTIMEZONE
TZID:Europe/Berlin
BEGIN:DAYLIGHT
TZOFFSETFROM:+0100
TZOFFSETTO:+0200
TZNAME:CEST
DTSTART:20210328T010000
END:DAYLIGHT
BEGIN:STANDARD
TZOFFSETFROM:+0200
TZOFFSETTO:+0100
TZNAME:CET
DTSTART:20211031T010000
END:STANDARD
BEGIN:DAYLIGHT
TZOFFSETFROM:+0100
TZOFFSETTO:+0200
TZNAME:CEST
DTSTART:20220327T010000
END:DAYLIGHT
BEGIN:STANDARD
TZOFFSETFROM:+0200
TZOFFSETTO:+0100
TZNAME:CET
DTSTART:20221030T010000
END:STANDARD
BEGIN:DAYLIGHT
TZOFFSETFROM:+0100
TZOFFSETTO:+0200
TZNAME:CEST
DTSTART:20230326T010000
END:DAYLIGHT
BEGIN:STANDARD
TZOFFSETFROM:+0200
TZOFFSETTO:+0100
TZNAME:CET
DTSTART:20231029T010000
END:STANDARD
END:VTIMEZONE
BEGIN:VEVENT
DTSTART;VALUE=DATE:20220601
DTEND;VALUE=DATE:20220602
DTSTAMP:20260423T010507
CREATED:20220211T124347Z
LAST-MODIFIED:20220218T100059Z
UID:9527-1654041600-1654127999@oi-gesellschaft.de
SUMMARY:DOIG: Online-OI-Männerrunde mit Frank Bangert
DESCRIPTION:Online-Gesprächsrunde mit Frank Bangert für Männer mit OI ab 16 J.jeden ersten Mittwoch im Monatweitere Informationen und Anmeldung unter https://oi-gesellschaft.de/neues-angebot-oi-maennerrunde-online/
URL:https://oi-gesellschaft.de/event/doig-online-oi-maennerrunde-mit-frank-bangert-21/
END:VEVENT
BEGIN:VEVENT
DTSTART;TZID=Europe/Berlin:20220601T190000
DTEND;TZID=Europe/Berlin:20220601T193000
DTSTAMP:20260423T010507
CREATED:20220218T111006Z
LAST-MODIFIED:20220601T165617Z
UID:9753-1654110000-1654111800@oi-gesellschaft.de
SUMMARY:DOIG: Online-OI-Männerrunde mit Frank Bangert
DESCRIPTION:Online-Gesprächsrunde mit Frank Bangert für Männer mit OI ab 16 J.jeden ersten Mittwoch im Monatweitere Informationen und Anmeldung unter https://oi-gesellschaft.de/neues-angebot-oi-maennerrunde-online/
URL:https://oi-gesellschaft.de/event/doig-online-oi-maennerrunde-mit-frank-bangert-43/
END:VEVENT
BEGIN:VEVENT
DTSTART;TZID=Europe/Berlin:20220602T200000
DTEND;TZID=Europe/Berlin:20220602T233000
DTSTAMP:20260423T010507
CREATED:20220519T194741Z
LAST-MODIFIED:20220602T204045Z
UID:11583-1654200000-1654212600@oi-gesellschaft.de
SUMMARY:OI Stammtisch online
DESCRIPTION:DOIG Stammtisch\, offen für alle\, neue Gäste willkommen\, Link bei siri.gottschling@oi-gesellschaft.de anfordern  🙂
URL:https://oi-gesellschaft.de/event/oi-stammtisch-online-56/
END:VEVENT
BEGIN:VEVENT
DTSTART;TZID=Europe/Berlin:20220609T200000
DTEND;TZID=Europe/Berlin:20220609T233000
DTSTAMP:20260423T010507
CREATED:20220519T194742Z
LAST-MODIFIED:20220609T203955Z
UID:11584-1654804800-1654817400@oi-gesellschaft.de
SUMMARY:OI Stammtisch online
DESCRIPTION:DOIG Stammtisch\, offen für alle\, neue Gäste willkommen\, Link bei siri.gottschling@oi-gesellschaft.de anfordern  🙂
URL:https://oi-gesellschaft.de/event/oi-stammtisch-online-57/
END:VEVENT
BEGIN:VEVENT
DTSTART;TZID=Europe/Berlin:20220613T184500
DTEND;TZID=Europe/Berlin:20220613T194500
DTSTAMP:20260423T010507
CREATED:20211217T094131Z
LAST-MODIFIED:20220613T174308Z
UID:7989-1655145900-1655149500@oi-gesellschaft.de
SUMMARY:OI-Online-Yoga
DESCRIPTION:mit Friederike Mast
URL:https://oi-gesellschaft.de/event/oi-online-yoga-6/
END:VEVENT
BEGIN:VEVENT
DTSTART;VALUE=DATE:20220615
DTEND;VALUE=DATE:20220620
DTSTAMP:20260423T010507
CREATED:20220601T222232Z
LAST-MODIFIED:20220619T235921Z
UID:11958-1655251200-1655683199@oi-gesellschaft.de
SUMMARY:DOIG Jahrestagung
DESCRIPTION:
URL:https://oi-gesellschaft.de/event/doig-jahrestagung/
LOCATION:Jugendgästehaus Duderstadt\nAdenauerring 23\, 37115 Duderstadt\, Deutschland
END:VEVENT
BEGIN:VEVENT
DTSTART;VALUE=DATE:20220623
DTEND;VALUE=DATE:20220626
DTSTAMP:20260423T010507
CREATED:20210920T232103Z
LAST-MODIFIED:20220625T235812Z
UID:6617-1655942400-1656201599@oi-gesellschaft.de
SUMMARY:REHAB Messe
DESCRIPTION:
URL:https://oi-gesellschaft.de/event/rehab-messe/
LOCATION:Karlsruhe\, Deutschland
END:VEVENT
BEGIN:VEVENT
DTSTART;TZID=Europe/Berlin:20220623T200000
DTEND;TZID=Europe/Berlin:20220623T233000
DTSTAMP:20260423T010507
CREATED:20220519T194742Z
LAST-MODIFIED:20220623T212520Z
UID:11585-1656014400-1656027000@oi-gesellschaft.de
SUMMARY:OI Stammtisch online
DESCRIPTION:DOIG Stammtisch\, offen für alle\, neue Gäste willkommen\, Link bei siri.gottschling@oi-gesellschaft.de anfordern  🙂
URL:https://oi-gesellschaft.de/event/oi-stammtisch-online-58/
END:VEVENT
BEGIN:VEVENT
DTSTART;TZID=Europe/Berlin:20220625T170000
DTEND;TZID=Europe/Berlin:20220625T183000
DTSTAMP:20260423T010507
CREATED:20220412T174121Z
LAST-MODIFIED:20220625T161256Z
UID:10652-1656176400-1656181800@oi-gesellschaft.de
SUMMARY:Offene Ergotherapie-/Hilfsmittel-Sprechstunde (online) mit Inga Oppermann
DESCRIPTION:um 17:00 Uhr bis 18:30
URL:https://oi-gesellschaft.de/event/offene-ergotherapie-hilfsmittel-sprechstunde-online-mit-inga-oppermann-3/
END:VEVENT
BEGIN:VEVENT
DTSTART;VALUE=DATE:20220627
DTEND;VALUE=DATE:20220702
DTSTAMP:20260423T010507
CREATED:20220110T125415Z
LAST-MODIFIED:20220701T231005Z
UID:8551-1656288000-1656719999@oi-gesellschaft.de
SUMMARY:ECRD conference 2022 – ONLINE
DESCRIPTION:Die 11. Europäische Konferenz über seltene Krankheiten und Orphan-Produkte (ECRD) findet online statt und ist eine offizielle Veranstaltung der französischen EU-Ratspräsidentschaft. Sie folgt auf die zweijährige Rare 2030 Foresight-Studie\, die vom Europäischen Parlament und der Europäischen Kommission unterstützt wurde und die eine groß angelegte und von vielen Interessengruppen getragene Reflexion über die Politik für seltene Krankheiten in Europa bis 2030 ermöglicht.European Conference on Rare Diseases – ECRD2022 (rare-diseases.eu)
URL:https://oi-gesellschaft.de/event/ecrd-conference-2022-online/
END:VEVENT
BEGIN:VEVENT
DTSTART;TZID=Europe/Berlin:20220628T190000
DTEND;TZID=Europe/Berlin:20220628T213000
DTSTAMP:20260423T010507
CREATED:20220512T130248Z
LAST-MODIFIED:20220628T185537Z
UID:11363-1656442800-1656451800@oi-gesellschaft.de
SUMMARY:Frauenrunde mit Ayşe Şen-Mathussek und Elke Lippold-Jäger
DESCRIPTION:
URL:https://oi-gesellschaft.de/event/frauenrunde-mit-ayse-sen-mathussek-und-elke-lippold-jaeger-31/
END:VEVENT
BEGIN:VEVENT
DTSTART;TZID=Europe/Berlin:20220630T200000
DTEND;TZID=Europe/Berlin:20220630T233000
DTSTAMP:20260423T010507
CREATED:20220519T194743Z
LAST-MODIFIED:20220630T212449Z
UID:11586-1656619200-1656631800@oi-gesellschaft.de
SUMMARY:OI Stammtisch online
DESCRIPTION:DOIG Stammtisch\, offen für alle\, neue Gäste willkommen\, Link bei siri.gottschling@oi-gesellschaft.de anfordern  🙂
URL:https://oi-gesellschaft.de/event/oi-stammtisch-online-59/
END:VEVENT
END:VCALENDAR