BEGIN:VCALENDAR
VERSION:2.0
PRODID:-//Deutsche Gesellschaft für Osteogenesis imperfecta (Glasknochen) Betroffene e.V. - ECPv6.15.20//NONSGML v1.0//EN
CALSCALE:GREGORIAN
METHOD:PUBLISH
X-ORIGINAL-URL:https://oi-gesellschaft.de
X-WR-CALDESC:Veranstaltungen für Deutsche Gesellschaft für Osteogenesis imperfecta (Glasknochen) Betroffene e.V.
REFRESH-INTERVAL;VALUE=DURATION:PT1H
X-Robots-Tag:noindex
X-PUBLISHED-TTL:PT1H
BEGIN:VTIMEZONE
TZID:Europe/Berlin
BEGIN:DAYLIGHT
TZOFFSETFROM:+0100
TZOFFSETTO:+0200
TZNAME:CEST
DTSTART:20210328T010000
END:DAYLIGHT
BEGIN:STANDARD
TZOFFSETFROM:+0200
TZOFFSETTO:+0100
TZNAME:CET
DTSTART:20211031T010000
END:STANDARD
BEGIN:DAYLIGHT
TZOFFSETFROM:+0100
TZOFFSETTO:+0200
TZNAME:CEST
DTSTART:20220327T010000
END:DAYLIGHT
BEGIN:STANDARD
TZOFFSETFROM:+0200
TZOFFSETTO:+0100
TZNAME:CET
DTSTART:20221030T010000
END:STANDARD
BEGIN:DAYLIGHT
TZOFFSETFROM:+0100
TZOFFSETTO:+0200
TZNAME:CEST
DTSTART:20230326T010000
END:DAYLIGHT
BEGIN:STANDARD
TZOFFSETFROM:+0200
TZOFFSETTO:+0100
TZNAME:CET
DTSTART:20231029T010000
END:STANDARD
END:VTIMEZONE
BEGIN:VEVENT
DTSTART;VALUE=DATE:20220627
DTEND;VALUE=DATE:20220702
DTSTAMP:20260422T235126
CREATED:20220110T125415Z
LAST-MODIFIED:20220701T231005Z
UID:8551-1656288000-1656719999@oi-gesellschaft.de
SUMMARY:ECRD conference 2022 – ONLINE
DESCRIPTION:Die 11. Europäische Konferenz über seltene Krankheiten und Orphan-Produkte (ECRD) findet online statt und ist eine offizielle Veranstaltung der französischen EU-Ratspräsidentschaft. Sie folgt auf die zweijährige Rare 2030 Foresight-Studie\, die vom Europäischen Parlament und der Europäischen Kommission unterstützt wurde und die eine groß angelegte und von vielen Interessengruppen getragene Reflexion über die Politik für seltene Krankheiten in Europa bis 2030 ermöglicht.European Conference on Rare Diseases – ECRD2022 (rare-diseases.eu)
URL:https://oi-gesellschaft.de/event/ecrd-conference-2022-online/
END:VEVENT
BEGIN:VEVENT
DTSTART;VALUE=DATE:20220702
DTEND;VALUE=DATE:20220703
DTSTAMP:20260422T235126
CREATED:20220413T074248Z
LAST-MODIFIED:20220702T235442Z
UID:10689-1656720000-1656806399@oi-gesellschaft.de
SUMMARY:LV BAY – Regionaltreffen in Neuschönau im Bayrischen Wald
DESCRIPTION:
URL:https://oi-gesellschaft.de/event/lv-bay-regionaltreffen-in-neuschoenau-im-bayrischen-wald/
END:VEVENT
BEGIN:VEVENT
DTSTART;TZID=Europe/Berlin:20220704T184500
DTEND;TZID=Europe/Berlin:20220704T194500
DTSTAMP:20260422T235126
CREATED:20211217T094132Z
LAST-MODIFIED:20220704T172541Z
UID:7990-1656960300-1656963900@oi-gesellschaft.de
SUMMARY:OI-Online-Yoga
DESCRIPTION:mit Friederike Mast
URL:https://oi-gesellschaft.de/event/oi-online-yoga-7/
END:VEVENT
BEGIN:VEVENT
DTSTART;VALUE=DATE:20220706
DTEND;VALUE=DATE:20220707
DTSTAMP:20260422T235126
CREATED:20220211T124348Z
LAST-MODIFIED:20220218T100100Z
UID:9528-1657065600-1657151999@oi-gesellschaft.de
SUMMARY:DOIG: Online-OI-Männerrunde mit Frank Bangert
DESCRIPTION:Online-Gesprächsrunde mit Frank Bangert für Männer mit OI ab 16 J.jeden ersten Mittwoch im Monatweitere Informationen und Anmeldung unter https://oi-gesellschaft.de/neues-angebot-oi-maennerrunde-online/
URL:https://oi-gesellschaft.de/event/doig-online-oi-maennerrunde-mit-frank-bangert-22/
END:VEVENT
BEGIN:VEVENT
DTSTART;TZID=Europe/Berlin:20220706T190000
DTEND;TZID=Europe/Berlin:20220706T193000
DTSTAMP:20260422T235126
CREATED:20220218T111007Z
LAST-MODIFIED:20220706T172720Z
UID:9754-1657134000-1657135800@oi-gesellschaft.de
SUMMARY:DOIG: Online-OI-Männerrunde mit Frank Bangert
DESCRIPTION:Online-Gesprächsrunde mit Frank Bangert für Männer mit OI ab 16 J.jeden ersten Mittwoch im Monatweitere Informationen und Anmeldung unter https://oi-gesellschaft.de/neues-angebot-oi-maennerrunde-online/
URL:https://oi-gesellschaft.de/event/doig-online-oi-maennerrunde-mit-frank-bangert-44/
END:VEVENT
BEGIN:VEVENT
DTSTART;TZID=Europe/Berlin:20220707T200000
DTEND;TZID=Europe/Berlin:20220707T233000
DTSTAMP:20260422T235126
CREATED:20220519T194744Z
LAST-MODIFIED:20220707T205455Z
UID:11587-1657224000-1657236600@oi-gesellschaft.de
SUMMARY:OI Stammtisch online
DESCRIPTION:DOIG Stammtisch\, offen für alle\, neue Gäste willkommen\, Link bei siri.gottschling@oi-gesellschaft.de anfordern  🙂
URL:https://oi-gesellschaft.de/event/oi-stammtisch-online-60/
END:VEVENT
BEGIN:VEVENT
DTSTART;VALUE=DATE:20220709
DTEND;VALUE=DATE:20220711
DTSTAMP:20260422T235126
CREATED:20220203T133926Z
LAST-MODIFIED:20220710T232951Z
UID:9292-1657324800-1657497599@oi-gesellschaft.de
SUMMARY:Fortbildung Grundkurs „Physiotherapie bei Osteogenesis imperfecta / Glasknochen“ (Landesverband Nord)
DESCRIPTION:Die Fortbildung wird von der Beauftragten für Physiotherapie der Deutschen Gesellschaft für\nOsteogenesis imperfecta (Glasknochen) Betroffene e.V. (DOIG) Frau Tanja Petersen geleitet.
URL:https://oi-gesellschaft.de/event/fortbildung-grundkurs-physiotherapie-bei-osteogenesis-imperfecta-glasknochen-landesverband-nord/
LOCATION:AMERON K ln Hotel Regent
END:VEVENT
BEGIN:VEVENT
DTSTART;TZID=Europe/Berlin:20220714T200000
DTEND;TZID=Europe/Berlin:20220714T233000
DTSTAMP:20260422T235126
CREATED:20220519T194744Z
LAST-MODIFIED:20220714T205844Z
UID:11588-1657828800-1657841400@oi-gesellschaft.de
SUMMARY:OI Stammtisch online
DESCRIPTION:DOIG Stammtisch\, offen für alle\, neue Gäste willkommen\, Link bei siri.gottschling@oi-gesellschaft.de anfordern  🙂
URL:https://oi-gesellschaft.de/event/oi-stammtisch-online-61/
END:VEVENT
BEGIN:VEVENT
DTSTART;TZID=Europe/Berlin:20220721T200000
DTEND;TZID=Europe/Berlin:20220721T233000
DTSTAMP:20260422T235126
CREATED:20220714T185820Z
LAST-MODIFIED:20220721T211005Z
UID:13116-1658433600-1658446200@oi-gesellschaft.de
SUMMARY:OI Stammtisch online
DESCRIPTION:DOIG Stammtisch\, offen für alle\, neue Gäste willkommen\, Link bei siri.gottschling@oi-gesellschaft.de anfordern  🙂
URL:https://oi-gesellschaft.de/event/oi-stammtisch-online-62/
END:VEVENT
BEGIN:VEVENT
DTSTART;TZID=Europe/Berlin:20220726T190000
DTEND;TZID=Europe/Berlin:20220726T213000
DTSTAMP:20260422T235126
CREATED:20220512T130249Z
LAST-MODIFIED:20220726T192914Z
UID:11364-1658862000-1658871000@oi-gesellschaft.de
SUMMARY:Frauenrunde mit Ayşe Şen-Mathussek und Elke Lippold-Jäger
DESCRIPTION:
URL:https://oi-gesellschaft.de/event/frauenrunde-mit-ayse-sen-mathussek-und-elke-lippold-jaeger-32/
END:VEVENT
BEGIN:VEVENT
DTSTART;TZID=Europe/Berlin:20220728T200000
DTEND;TZID=Europe/Berlin:20220728T233000
DTSTAMP:20260422T235126
CREATED:20220714T185821Z
LAST-MODIFIED:20220728T212530Z
UID:13117-1659038400-1659051000@oi-gesellschaft.de
SUMMARY:OI Stammtisch online
DESCRIPTION:DOIG Stammtisch\, offen für alle\, neue Gäste willkommen\, Link bei siri.gottschling@oi-gesellschaft.de anfordern  🙂
URL:https://oi-gesellschaft.de/event/oi-stammtisch-online-63/
END:VEVENT
BEGIN:VEVENT
DTSTART;VALUE=DATE:20220730
DTEND;VALUE=DATE:20220808
DTSTAMP:20260422T235126
CREATED:20220211T135513Z
LAST-MODIFIED:20220807T232524Z
UID:9557-1659139200-1659916799@oi-gesellschaft.de
SUMMARY:LV BAY + LV BaWü – Mobilitätsfreizeit in Südtirol
DESCRIPTION: OI-Mobil-Freizeit Südtirol  http://www.oi-gesellschaft-bw.de/unsere-angebote-info-center-und-veranstaltungen/aktuelle-termine.htmlhttps://www.oi-gesellschaft-bayern.de/index.php/termine
URL:https://oi-gesellschaft.de/event/lv-bay-lv-bawue-mobilitaetsfreizeit-in-suedtirol/
END:VEVENT
BEGIN:VEVENT
DTSTART;TZID=Europe/Berlin:20220730T170000
DTEND;TZID=Europe/Berlin:20220730T183000
DTSTAMP:20260422T235126
CREATED:20220412T174122Z
LAST-MODIFIED:20220730T162610Z
UID:10653-1659200400-1659205800@oi-gesellschaft.de
SUMMARY:Offene Ergotherapie-/Hilfsmittel-Sprechstunde (online) mit Inga Oppermann
DESCRIPTION:um 17:00 Uhr bis 18:30
URL:https://oi-gesellschaft.de/event/offene-ergotherapie-hilfsmittel-sprechstunde-online-mit-inga-oppermann-4/
END:VEVENT
END:VCALENDAR