BEGIN:VCALENDAR
VERSION:2.0
PRODID:-//Deutsche Gesellschaft für Osteogenesis imperfecta (Glasknochen) Betroffene e.V. - ECPv6.15.20//NONSGML v1.0//EN
CALSCALE:GREGORIAN
METHOD:PUBLISH
X-WR-CALNAME:Deutsche Gesellschaft für Osteogenesis imperfecta (Glasknochen) Betroffene e.V.
X-ORIGINAL-URL:https://oi-gesellschaft.de
X-WR-CALDESC:Veranstaltungen für Deutsche Gesellschaft für Osteogenesis imperfecta (Glasknochen) Betroffene e.V.
REFRESH-INTERVAL;VALUE=DURATION:PT1H
X-Robots-Tag:noindex
X-PUBLISHED-TTL:PT1H
BEGIN:VTIMEZONE
TZID:Europe/Berlin
BEGIN:DAYLIGHT
TZOFFSETFROM:+0100
TZOFFSETTO:+0200
TZNAME:CEST
DTSTART:20210328T010000
END:DAYLIGHT
BEGIN:STANDARD
TZOFFSETFROM:+0200
TZOFFSETTO:+0100
TZNAME:CET
DTSTART:20211031T010000
END:STANDARD
BEGIN:DAYLIGHT
TZOFFSETFROM:+0100
TZOFFSETTO:+0200
TZNAME:CEST
DTSTART:20220327T010000
END:DAYLIGHT
BEGIN:STANDARD
TZOFFSETFROM:+0200
TZOFFSETTO:+0100
TZNAME:CET
DTSTART:20221030T010000
END:STANDARD
BEGIN:DAYLIGHT
TZOFFSETFROM:+0100
TZOFFSETTO:+0200
TZNAME:CEST
DTSTART:20230326T010000
END:DAYLIGHT
BEGIN:STANDARD
TZOFFSETFROM:+0200
TZOFFSETTO:+0100
TZNAME:CET
DTSTART:20231029T010000
END:STANDARD
END:VTIMEZONE
BEGIN:VEVENT
DTSTART;VALUE=DATE:20220730
DTEND;VALUE=DATE:20220808
DTSTAMP:20260422T235007
CREATED:20220211T135513Z
LAST-MODIFIED:20220807T232524Z
UID:9557-1659139200-1659916799@oi-gesellschaft.de
SUMMARY:LV BAY + LV BaWü – Mobilitätsfreizeit in Südtirol
DESCRIPTION: OI-Mobil-Freizeit Südtirol  http://www.oi-gesellschaft-bw.de/unsere-angebote-info-center-und-veranstaltungen/aktuelle-termine.htmlhttps://www.oi-gesellschaft-bayern.de/index.php/termine
URL:https://oi-gesellschaft.de/event/lv-bay-lv-bawue-mobilitaetsfreizeit-in-suedtirol/
END:VEVENT
BEGIN:VEVENT
DTSTART;VALUE=DATE:20220801
DTEND;VALUE=DATE:20220802
DTSTAMP:20260422T235007
CREATED:20211115T102706Z
LAST-MODIFIED:20220801T231426Z
UID:7113-1659312000-1659398399@oi-gesellschaft.de
SUMMARY:Redaktionsschluss Durchbruch 03/2022
DESCRIPTION:
URL:https://oi-gesellschaft.de/event/redaktionsschluss-durchbruch-03-2022/
END:VEVENT
BEGIN:VEVENT
DTSTART;VALUE=DATE:20220804
DTEND;VALUE=DATE:20220811
DTSTAMP:20260422T235007
CREATED:20220211T135514Z
LAST-MODIFIED:20220810T234619Z
UID:9559-1659571200-1660175999@oi-gesellschaft.de
SUMMARY:LV NORD – Ferienfreizeit
DESCRIPTION:Ein verlängertes Wochenende\, 04.08.-10.08.2022 in Cuxhaven Ferienhotel Dünenhof\nhttps://www.oi-nord.de/
URL:https://oi-gesellschaft.de/event/lv-nord-ferienfreizeit/
END:VEVENT
BEGIN:VEVENT
DTSTART;TZID=Europe/Berlin:20220804T200000
DTEND;TZID=Europe/Berlin:20220804T233000
DTSTAMP:20260422T235007
CREATED:20220714T185821Z
LAST-MODIFIED:20220804T210153Z
UID:13118-1659643200-1659655800@oi-gesellschaft.de
SUMMARY:OI Stammtisch online
DESCRIPTION:DOIG Stammtisch\, offen für alle\, neue Gäste willkommen\, Link bei siri.gottschling@oi-gesellschaft.de anfordern  🙂
URL:https://oi-gesellschaft.de/event/oi-stammtisch-online-64/
END:VEVENT
BEGIN:VEVENT
DTSTART;TZID=Europe/Berlin:20220808T184500
DTEND;TZID=Europe/Berlin:20220808T194500
DTSTAMP:20260422T235007
CREATED:20211217T094132Z
LAST-MODIFIED:20220808T174100Z
UID:7991-1659984300-1659987900@oi-gesellschaft.de
SUMMARY:OI-Online-Yoga
DESCRIPTION:mit Friederike Mast
URL:https://oi-gesellschaft.de/event/oi-online-yoga-8/
END:VEVENT
BEGIN:VEVENT
DTSTART;TZID=Europe/Berlin:20220811T200000
DTEND;TZID=Europe/Berlin:20220811T233000
DTSTAMP:20260422T235007
CREATED:20220714T185821Z
LAST-MODIFIED:20220811T204054Z
UID:13119-1660248000-1660260600@oi-gesellschaft.de
SUMMARY:OI Stammtisch online
DESCRIPTION:DOIG Stammtisch\, offen für alle\, neue Gäste willkommen\, Link bei siri.gottschling@oi-gesellschaft.de anfordern  🙂
URL:https://oi-gesellschaft.de/event/oi-stammtisch-online-65/
END:VEVENT
BEGIN:VEVENT
DTSTART;VALUE=DATE:20220813
DTEND;VALUE=DATE:20220814
DTSTAMP:20260422T235007
CREATED:20220413T074249Z
LAST-MODIFIED:20220814T000005Z
UID:10690-1660348800-1660435199@oi-gesellschaft.de
SUMMARY:LV NRW – Schulbegleiter-Fortbildung
DESCRIPTION:Weitere Infos unter:https://nrw.oi-gesellschaft.de/termine/Ansprechpartnerin: Lena Rasten\, 2. Vorsitzende LV NRWlena.rasten@oi-gesellschaft.de 
URL:https://oi-gesellschaft.de/event/lv-nrw-schulbegleiter-fortbildung-2/
END:VEVENT
BEGIN:VEVENT
DTSTART;TZID=Europe/Berlin:20220818T200000
DTEND;TZID=Europe/Berlin:20220818T233000
DTSTAMP:20260422T235007
CREATED:20220714T185822Z
LAST-MODIFIED:20220818T212702Z
UID:13120-1660852800-1660865400@oi-gesellschaft.de
SUMMARY:OI Stammtisch online
DESCRIPTION:DOIG Stammtisch\, offen für alle\, neue Gäste willkommen\, Link bei siri.gottschling@oi-gesellschaft.de anfordern  🙂
URL:https://oi-gesellschaft.de/event/oi-stammtisch-online-66/
END:VEVENT
BEGIN:VEVENT
DTSTART;TZID=Europe/Berlin:20220825T200000
DTEND;TZID=Europe/Berlin:20220825T233000
DTSTAMP:20260422T235007
CREATED:20220714T185822Z
LAST-MODIFIED:20220825T211047Z
UID:13121-1661457600-1661470200@oi-gesellschaft.de
SUMMARY:OI Stammtisch online
DESCRIPTION:DOIG Stammtisch\, offen für alle\, neue Gäste willkommen\, Link bei siri.gottschling@oi-gesellschaft.de anfordern  🙂
URL:https://oi-gesellschaft.de/event/oi-stammtisch-online-67/
END:VEVENT
BEGIN:VEVENT
DTSTART;VALUE=DATE:20220830
DTEND;VALUE=DATE:20220831
DTSTAMP:20260422T235007
CREATED:20220107T140855Z
LAST-MODIFIED:20220830T235451Z
UID:8482-1661817600-1661903999@oi-gesellschaft.de
SUMMARY:14th International Conference on Osteogenesis imperfecta
DESCRIPTION:
URL:https://oi-gesellschaft.de/event/14th-international-conference-on-osteogenesisi-imperfecta/
LOCATION:Sheffield\nEngland
END:VEVENT
BEGIN:VEVENT
DTSTART;TZID=Europe/Berlin:20220830T190000
DTEND;TZID=Europe/Berlin:20220830T213000
DTSTAMP:20260422T235007
CREATED:20220622T233817Z
LAST-MODIFIED:20220830T182548Z
UID:12462-1661886000-1661895000@oi-gesellschaft.de
SUMMARY:Frauenrunde mit Ayşe Şen-Mathussek und Elke Lippold-Jäger
DESCRIPTION:
URL:https://oi-gesellschaft.de/event/frauenrunde-mit-ayse-sen-mathussek-und-elke-lippold-jaeger-2/
END:VEVENT
END:VCALENDAR