BEGIN:VCALENDAR
VERSION:2.0
PRODID:-//Deutsche Gesellschaft für Osteogenesis imperfecta (Glasknochen) Betroffene e.V. - ECPv6.15.20//NONSGML v1.0//EN
CALSCALE:GREGORIAN
METHOD:PUBLISH
X-ORIGINAL-URL:https://oi-gesellschaft.de
X-WR-CALDESC:Veranstaltungen für Deutsche Gesellschaft für Osteogenesis imperfecta (Glasknochen) Betroffene e.V.
REFRESH-INTERVAL;VALUE=DURATION:PT1H
X-Robots-Tag:noindex
X-PUBLISHED-TTL:PT1H
BEGIN:VTIMEZONE
TZID:Europe/Berlin
BEGIN:DAYLIGHT
TZOFFSETFROM:+0100
TZOFFSETTO:+0200
TZNAME:CEST
DTSTART:20210328T010000
END:DAYLIGHT
BEGIN:STANDARD
TZOFFSETFROM:+0200
TZOFFSETTO:+0100
TZNAME:CET
DTSTART:20211031T010000
END:STANDARD
BEGIN:DAYLIGHT
TZOFFSETFROM:+0100
TZOFFSETTO:+0200
TZNAME:CEST
DTSTART:20220327T010000
END:DAYLIGHT
BEGIN:STANDARD
TZOFFSETFROM:+0200
TZOFFSETTO:+0100
TZNAME:CET
DTSTART:20221030T010000
END:STANDARD
BEGIN:DAYLIGHT
TZOFFSETFROM:+0100
TZOFFSETTO:+0200
TZNAME:CEST
DTSTART:20230326T010000
END:DAYLIGHT
BEGIN:STANDARD
TZOFFSETFROM:+0200
TZOFFSETTO:+0100
TZNAME:CET
DTSTART:20231029T010000
END:STANDARD
END:VTIMEZONE
BEGIN:VEVENT
DTSTART;VALUE=DATE:20221101
DTEND;VALUE=DATE:20221102
DTSTAMP:20260422T181644
CREATED:20221004T123752Z
LAST-MODIFIED:20221101T012740Z
UID:26955-1667260800-1667347199@oi-gesellschaft.de
SUMMARY:Redaktionsschluss Durchbruch 04/2022
DESCRIPTION:
URL:https://oi-gesellschaft.de/event/redaktionsschluss-durchbruch-04-2022/
END:VEVENT
BEGIN:VEVENT
DTSTART;TZID=Europe/Berlin:20221102T190000
DTEND;TZID=Europe/Berlin:20221102T193000
DTSTAMP:20260422T181644
CREATED:20221004T123752Z
LAST-MODIFIED:20221101T012740Z
UID:26956-1667415600-1667417400@oi-gesellschaft.de
SUMMARY:DOIG: Online-OI-Männerrunde mit Frank Bangert
DESCRIPTION:Online-Gesprächsrunde mit Frank Bangert für Männer mit OI ab 16 J.jeden ersten Mittwoch im Monatweitere Informationen und Anmeldung unter https://oi-gesellschaft.de/neues-angebot-oi-maennerrunde-online/
URL:https://oi-gesellschaft.de/event/doig-online-oi-maennerrunde-mit-frank-bangert-25/
END:VEVENT
BEGIN:VEVENT
DTSTART;TZID=Europe/Berlin:20221103T200000
DTEND;TZID=Europe/Berlin:20221103T233000
DTSTAMP:20260422T181644
CREATED:20221004T123752Z
LAST-MODIFIED:20221101T012740Z
UID:26957-1667505600-1667518200@oi-gesellschaft.de
SUMMARY:OI Stammtisch online
DESCRIPTION:DOIG Stammtisch\, offen für alle\, neue Gäste willkommen\, Link bei siri.gottschling@oi-gesellschaft.de anfordern  🙂
URL:https://oi-gesellschaft.de/event/oi-stammtisch-online-77/
END:VEVENT
BEGIN:VEVENT
DTSTART;TZID=Europe/Berlin:20221107T184500
DTEND;TZID=Europe/Berlin:20221107T194500
DTSTAMP:20260422T181644
CREATED:20221004T123753Z
LAST-MODIFIED:20221107T121547Z
UID:26958-1667846700-1667850300@oi-gesellschaft.de
SUMMARY:OI-Online-Yoga
DESCRIPTION:mit Friederike Mast
URL:https://oi-gesellschaft.de/event/oi-online-yoga-11/
END:VEVENT
BEGIN:VEVENT
DTSTART;TZID=Europe/Berlin:20221110T200000
DTEND;TZID=Europe/Berlin:20221110T233000
DTSTAMP:20260422T181644
CREATED:20221004T123753Z
LAST-MODIFIED:20221109T221034Z
UID:26959-1668110400-1668123000@oi-gesellschaft.de
SUMMARY:OI Stammtisch online
DESCRIPTION:DOIG Stammtisch\, offen für alle\, neue Gäste willkommen\, Link bei siri.gottschling@oi-gesellschaft.de anfordern  🙂
URL:https://oi-gesellschaft.de/event/oi-stammtisch-online-78/
END:VEVENT
BEGIN:VEVENT
DTSTART;TZID=Europe/Berlin:20221117T200000
DTEND;TZID=Europe/Berlin:20221117T233000
DTSTAMP:20260422T181644
CREATED:20221004T123753Z
LAST-MODIFIED:20221109T221034Z
UID:26960-1668715200-1668727800@oi-gesellschaft.de
SUMMARY:OI Stammtisch online
DESCRIPTION:DOIG Stammtisch\, offen für alle\, neue Gäste willkommen\, Link bei siri.gottschling@oi-gesellschaft.de anfordern  🙂
URL:https://oi-gesellschaft.de/event/oi-stammtisch-online-79/
END:VEVENT
BEGIN:VEVENT
DTSTART;VALUE=DATE:20221118
DTEND;VALUE=DATE:20221121
DTSTAMP:20260422T181644
CREATED:20221004T123753Z
LAST-MODIFIED:20221109T221034Z
UID:26961-1668729600-1668988799@oi-gesellschaft.de
SUMMARY:DOIG Erwachsenen-Seminar
DESCRIPTION:Anmeldeschluss: 16. September
URL:https://oi-gesellschaft.de/event/doig-erwachsenen-seminar-2/
LOCATION:Kurbadhotel Bad Wilhelmshöhe\, Kassel
END:VEVENT
BEGIN:VEVENT
DTSTART;TZID=Europe/Berlin:20221124T200000
DTEND;TZID=Europe/Berlin:20221124T233000
DTSTAMP:20260422T181644
CREATED:20221004T123753Z
LAST-MODIFIED:20221109T221034Z
UID:26962-1669320000-1669332600@oi-gesellschaft.de
SUMMARY:OI Stammtisch online
DESCRIPTION:DOIG Stammtisch\, offen für alle\, neue Gäste willkommen\, Link bei siri.gottschling@oi-gesellschaft.de anfordern  🙂
URL:https://oi-gesellschaft.de/event/oi-stammtisch-online-80/
END:VEVENT
BEGIN:VEVENT
DTSTART;TZID=Europe/Berlin:20221129T190000
DTEND;TZID=Europe/Berlin:20221129T213000
DTSTAMP:20260422T181644
CREATED:20221004T123754Z
LAST-MODIFIED:20221109T221035Z
UID:26963-1669748400-1669757400@oi-gesellschaft.de
SUMMARY:Frauenrunde mit Ayşe Şen-Mathussek und Elke Lippold-Jäger
DESCRIPTION:
URL:https://oi-gesellschaft.de/event/frauenrunde-mit-ayse-sen-mathussek-und-elke-lippold-jaeger-4/
END:VEVENT
END:VCALENDAR