BEGIN:VCALENDAR
VERSION:2.0
PRODID:-//Deutsche Gesellschaft für Osteogenesis imperfecta (Glasknochen) Betroffene e.V. - ECPv6.15.20//NONSGML v1.0//EN
CALSCALE:GREGORIAN
METHOD:PUBLISH
X-WR-CALNAME:Deutsche Gesellschaft für Osteogenesis imperfecta (Glasknochen) Betroffene e.V.
X-ORIGINAL-URL:https://oi-gesellschaft.de
X-WR-CALDESC:Veranstaltungen für Deutsche Gesellschaft für Osteogenesis imperfecta (Glasknochen) Betroffene e.V.
REFRESH-INTERVAL;VALUE=DURATION:PT1H
X-Robots-Tag:noindex
X-PUBLISHED-TTL:PT1H
BEGIN:VTIMEZONE
TZID:Europe/Berlin
BEGIN:DAYLIGHT
TZOFFSETFROM:+0100
TZOFFSETTO:+0200
TZNAME:CEST
DTSTART:20210328T010000
END:DAYLIGHT
BEGIN:STANDARD
TZOFFSETFROM:+0200
TZOFFSETTO:+0100
TZNAME:CET
DTSTART:20211031T010000
END:STANDARD
BEGIN:DAYLIGHT
TZOFFSETFROM:+0100
TZOFFSETTO:+0200
TZNAME:CEST
DTSTART:20220327T010000
END:DAYLIGHT
BEGIN:STANDARD
TZOFFSETFROM:+0200
TZOFFSETTO:+0100
TZNAME:CET
DTSTART:20221030T010000
END:STANDARD
BEGIN:DAYLIGHT
TZOFFSETFROM:+0100
TZOFFSETTO:+0200
TZNAME:CEST
DTSTART:20230326T010000
END:DAYLIGHT
BEGIN:STANDARD
TZOFFSETFROM:+0200
TZOFFSETTO:+0100
TZNAME:CET
DTSTART:20231029T010000
END:STANDARD
END:VTIMEZONE
BEGIN:VEVENT
DTSTART;TZID=Europe/Berlin:20221201T200000
DTEND;TZID=Europe/Berlin:20221201T233000
DTSTAMP:20260422T181414
CREATED:20221004T123754Z
LAST-MODIFIED:20221109T221035Z
UID:26964-1669924800-1669937400@oi-gesellschaft.de
SUMMARY:OI Stammtisch online
DESCRIPTION:DOIG Stammtisch\, offen für alle\, neue Gäste willkommen\, Link bei siri.gottschling@oi-gesellschaft.de anfordern  🙂
URL:https://oi-gesellschaft.de/event/oi-stammtisch-online-81/
END:VEVENT
BEGIN:VEVENT
DTSTART;VALUE=DATE:20221205
DTEND;VALUE=DATE:20221206
DTSTAMP:20260422T181414
CREATED:20221004T123754Z
LAST-MODIFIED:20221109T221035Z
UID:26966-1670198400-1670284799@oi-gesellschaft.de
SUMMARY:Erscheinungstermin Durchbruch 04/2022
DESCRIPTION:
URL:https://oi-gesellschaft.de/event/erscheinungstermin-durchbruch-04-2022/
END:VEVENT
BEGIN:VEVENT
DTSTART;TZID=Europe/Berlin:20221205T184500
DTEND;TZID=Europe/Berlin:20221205T194500
DTSTAMP:20260422T181414
CREATED:20221004T123754Z
LAST-MODIFIED:20221109T221035Z
UID:26965-1670265900-1670269500@oi-gesellschaft.de
SUMMARY:OI-Online-Yoga
DESCRIPTION:mit Friederike Mast
URL:https://oi-gesellschaft.de/event/oi-online-yoga-12/
END:VEVENT
BEGIN:VEVENT
DTSTART;TZID=Europe/Berlin:20221207T190000
DTEND;TZID=Europe/Berlin:20221207T193000
DTSTAMP:20260422T181414
CREATED:20221004T123754Z
LAST-MODIFIED:20221109T221035Z
UID:26967-1670439600-1670441400@oi-gesellschaft.de
SUMMARY:DOIG: Online-OI-Männerrunde mit Frank Bangert
DESCRIPTION:Online-Gesprächsrunde mit Frank Bangert für Männer mit OI ab 16 J.jeden ersten Mittwoch im Monatweitere Informationen und Anmeldung unter https://oi-gesellschaft.de/neues-angebot-oi-maennerrunde-online/
URL:https://oi-gesellschaft.de/event/doig-online-oi-maennerrunde-mit-frank-bangert-26/
END:VEVENT
BEGIN:VEVENT
DTSTART;TZID=Europe/Berlin:20221208T200000
DTEND;TZID=Europe/Berlin:20221208T233000
DTSTAMP:20260422T181414
CREATED:20221004T123754Z
LAST-MODIFIED:20221109T221035Z
UID:26968-1670529600-1670542200@oi-gesellschaft.de
SUMMARY:OI Stammtisch online
DESCRIPTION:DOIG Stammtisch\, offen für alle\, neue Gäste willkommen\, Link bei siri.gottschling@oi-gesellschaft.de anfordern  🙂
URL:https://oi-gesellschaft.de/event/oi-stammtisch-online-82/
END:VEVENT
BEGIN:VEVENT
DTSTART;TZID=Europe/Berlin:20221215T200000
DTEND;TZID=Europe/Berlin:20221215T233000
DTSTAMP:20260422T181414
CREATED:20221004T123755Z
LAST-MODIFIED:20221109T221035Z
UID:26969-1671134400-1671147000@oi-gesellschaft.de
SUMMARY:OI Stammtisch online
DESCRIPTION:DOIG Stammtisch\, offen für alle\, neue Gäste willkommen\, Link bei siri.gottschling@oi-gesellschaft.de anfordern  🙂
URL:https://oi-gesellschaft.de/event/oi-stammtisch-online-83/
END:VEVENT
BEGIN:VEVENT
DTSTART;TZID=Europe/Berlin:20221222T200000
DTEND;TZID=Europe/Berlin:20221222T233000
DTSTAMP:20260422T181414
CREATED:20221004T123755Z
LAST-MODIFIED:20221109T221035Z
UID:26970-1671739200-1671751800@oi-gesellschaft.de
SUMMARY:OI Stammtisch online
DESCRIPTION:DOIG Stammtisch\, offen für alle\, neue Gäste willkommen\, Link bei siri.gottschling@oi-gesellschaft.de anfordern  🙂
URL:https://oi-gesellschaft.de/event/oi-stammtisch-online-84/
END:VEVENT
BEGIN:VEVENT
DTSTART;TZID=Europe/Berlin:20221227T190000
DTEND;TZID=Europe/Berlin:20221227T213000
DTSTAMP:20260422T181414
CREATED:20221004T123755Z
LAST-MODIFIED:20221109T221035Z
UID:26971-1672167600-1672176600@oi-gesellschaft.de
SUMMARY:Frauenrunde mit Ayşe Şen-Mathussek und Elke Lippold-Jäger
DESCRIPTION:
URL:https://oi-gesellschaft.de/event/frauenrunde-mit-ayse-sen-mathussek-und-elke-lippold-jaeger-5/
END:VEVENT
BEGIN:VEVENT
DTSTART;TZID=Europe/Berlin:20221229T200000
DTEND;TZID=Europe/Berlin:20221229T233000
DTSTAMP:20260422T181414
CREATED:20221004T123755Z
LAST-MODIFIED:20221109T221035Z
UID:26972-1672344000-1672356600@oi-gesellschaft.de
SUMMARY:OI Stammtisch online
DESCRIPTION:DOIG Stammtisch\, offen für alle\, neue Gäste willkommen\, Link bei siri.gottschling@oi-gesellschaft.de anfordern  🙂
URL:https://oi-gesellschaft.de/event/oi-stammtisch-online-85/
END:VEVENT
END:VCALENDAR