BEGIN:VCALENDAR
VERSION:2.0
PRODID:-//Deutsche Gesellschaft für Osteogenesis imperfecta (Glasknochen) Betroffene e.V. - ECPv6.15.20//NONSGML v1.0//EN
CALSCALE:GREGORIAN
METHOD:PUBLISH
X-WR-CALNAME:Deutsche Gesellschaft für Osteogenesis imperfecta (Glasknochen) Betroffene e.V.
X-ORIGINAL-URL:https://oi-gesellschaft.de
X-WR-CALDESC:Veranstaltungen für Deutsche Gesellschaft für Osteogenesis imperfecta (Glasknochen) Betroffene e.V.
REFRESH-INTERVAL;VALUE=DURATION:PT1H
X-Robots-Tag:noindex
X-PUBLISHED-TTL:PT1H
BEGIN:VTIMEZONE
TZID:Europe/Berlin
BEGIN:DAYLIGHT
TZOFFSETFROM:+0100
TZOFFSETTO:+0200
TZNAME:CEST
DTSTART:20220327T010000
END:DAYLIGHT
BEGIN:STANDARD
TZOFFSETFROM:+0200
TZOFFSETTO:+0100
TZNAME:CET
DTSTART:20221030T010000
END:STANDARD
BEGIN:DAYLIGHT
TZOFFSETFROM:+0100
TZOFFSETTO:+0200
TZNAME:CEST
DTSTART:20230326T010000
END:DAYLIGHT
BEGIN:STANDARD
TZOFFSETFROM:+0200
TZOFFSETTO:+0100
TZNAME:CET
DTSTART:20231029T010000
END:STANDARD
BEGIN:DAYLIGHT
TZOFFSETFROM:+0100
TZOFFSETTO:+0200
TZNAME:CEST
DTSTART:20240331T010000
END:DAYLIGHT
BEGIN:STANDARD
TZOFFSETFROM:+0200
TZOFFSETTO:+0100
TZNAME:CET
DTSTART:20241027T010000
END:STANDARD
END:VTIMEZONE
BEGIN:VEVENT
DTSTART;TZID=Europe/Berlin:20230105T200000
DTEND;TZID=Europe/Berlin:20230105T233000
DTSTAMP:20260422T152716
CREATED:20221231T121611Z
LAST-MODIFIED:20230101T023940Z
UID:27591-1672948800-1672961400@oi-gesellschaft.de
SUMMARY:OI Stammtisch online
DESCRIPTION: DOIG Stammtisch\, offen für alle\, neue Gäste willkommen\, Link bei siri.gottschling@oi-gesellschaft.de anfordern  🙂  
URL:https://oi-gesellschaft.de/event/oi-stammtisch-online-86/
END:VEVENT
BEGIN:VEVENT
DTSTART;TZID=Europe/Berlin:20230112T200000
DTEND;TZID=Europe/Berlin:20230112T233000
DTSTAMP:20260422T152716
CREATED:20221231T121612Z
LAST-MODIFIED:20230101T023940Z
UID:27592-1673553600-1673566200@oi-gesellschaft.de
SUMMARY:OI Stammtisch online
DESCRIPTION: DOIG Stammtisch\, offen für alle\, neue Gäste willkommen\, Link bei siri.gottschling@oi-gesellschaft.de anfordern  🙂  
URL:https://oi-gesellschaft.de/event/oi-stammtisch-online-87/
END:VEVENT
BEGIN:VEVENT
DTSTART;TZID=Europe/Berlin:20230119T200000
DTEND;TZID=Europe/Berlin:20230119T233000
DTSTAMP:20260422T152716
CREATED:20221231T121612Z
LAST-MODIFIED:20230118T220943Z
UID:27593-1674158400-1674171000@oi-gesellschaft.de
SUMMARY:OI Stammtisch online
DESCRIPTION: DOIG Stammtisch\, offen für alle\, neue Gäste willkommen\, Link bei siri.gottschling@oi-gesellschaft.de anfordern  🙂  
URL:https://oi-gesellschaft.de/event/oi-stammtisch-online-88/
END:VEVENT
BEGIN:VEVENT
DTSTART;TZID=Europe/Berlin:20230126T090000
DTEND;TZID=Europe/Berlin:20230126T100000
DTSTAMP:20260422T152716
CREATED:20221107T121548Z
LAST-MODIFIED:20230126T024051Z
UID:27178-1674723600-1674727200@oi-gesellschaft.de
SUMMARY:Redaktionsschluss Durchbruch 01/23
DESCRIPTION:
URL:https://oi-gesellschaft.de/event/redaktionsschluss-durchbruch-01-23/
END:VEVENT
BEGIN:VEVENT
DTSTART;TZID=Europe/Berlin:20230126T200000
DTEND;TZID=Europe/Berlin:20230126T233000
DTSTAMP:20260422T152716
CREATED:20221231T121612Z
LAST-MODIFIED:20230126T024051Z
UID:27594-1674763200-1674775800@oi-gesellschaft.de
SUMMARY:OI Stammtisch online
DESCRIPTION: DOIG Stammtisch\, offen für alle\, neue Gäste willkommen\, Link bei siri.gottschling@oi-gesellschaft.de anfordern  🙂  
URL:https://oi-gesellschaft.de/event/oi-stammtisch-online-89/
END:VEVENT
BEGIN:VEVENT
DTSTART;TZID=Europe/Berlin:20230131T190000
DTEND;TZID=Europe/Berlin:20230131T213000
DTSTAMP:20260422T152716
CREATED:20221004T123756Z
LAST-MODIFIED:20230127T221012Z
UID:26974-1675191600-1675200600@oi-gesellschaft.de
SUMMARY:Frauenrunde mit Ayşe Şen-Mathussek und Elke Lippold-Jäger
DESCRIPTION:
URL:https://oi-gesellschaft.de/event/frauenrunde-mit-ayse-sen-mathussek-und-elke-lippold-jaeger-6/
END:VEVENT
END:VCALENDAR