BEGIN:VCALENDAR
VERSION:2.0
PRODID:-//Deutsche Gesellschaft für Osteogenesis imperfecta (Glasknochen) Betroffene e.V. - ECPv6.15.20//NONSGML v1.0//EN
CALSCALE:GREGORIAN
METHOD:PUBLISH
X-ORIGINAL-URL:https://oi-gesellschaft.de
X-WR-CALDESC:Veranstaltungen für Deutsche Gesellschaft für Osteogenesis imperfecta (Glasknochen) Betroffene e.V.
REFRESH-INTERVAL;VALUE=DURATION:PT1H
X-Robots-Tag:noindex
X-PUBLISHED-TTL:PT1H
BEGIN:VTIMEZONE
TZID:Europe/Berlin
BEGIN:DAYLIGHT
TZOFFSETFROM:+0100
TZOFFSETTO:+0200
TZNAME:CEST
DTSTART:20220327T010000
END:DAYLIGHT
BEGIN:STANDARD
TZOFFSETFROM:+0200
TZOFFSETTO:+0100
TZNAME:CET
DTSTART:20221030T010000
END:STANDARD
BEGIN:DAYLIGHT
TZOFFSETFROM:+0100
TZOFFSETTO:+0200
TZNAME:CEST
DTSTART:20230326T010000
END:DAYLIGHT
BEGIN:STANDARD
TZOFFSETFROM:+0200
TZOFFSETTO:+0100
TZNAME:CET
DTSTART:20231029T010000
END:STANDARD
BEGIN:DAYLIGHT
TZOFFSETFROM:+0100
TZOFFSETTO:+0200
TZNAME:CEST
DTSTART:20240331T010000
END:DAYLIGHT
BEGIN:STANDARD
TZOFFSETFROM:+0200
TZOFFSETTO:+0100
TZNAME:CET
DTSTART:20241027T010000
END:STANDARD
END:VTIMEZONE
BEGIN:VEVENT
DTSTART;VALUE=DATE:20231102
DTEND;VALUE=DATE:20231106
DTSTAMP:20260422T003203
CREATED:20230213T121808Z
LAST-MODIFIED:20231105T222507Z
UID:27856-1698883200-1699228799@oi-gesellschaft.de
SUMMARY:DOIG Jugendwochenende
DESCRIPTION:
URL:https://oi-gesellschaft.de/event/doig-jugendwochenende-3/
LOCATION:Köln
END:VEVENT
BEGIN:VEVENT
DTSTART;TZID=Europe/Berlin:20231102T200000
DTEND;TZID=Europe/Berlin:20231102T233000
DTSTAMP:20260422T003203
CREATED:20230806T155057Z
LAST-MODIFIED:20231102T220941Z
UID:29561-1698955200-1698967800@oi-gesellschaft.de
SUMMARY:OI-Stammtisch online
DESCRIPTION:DOIG Stammtisch\, offen für alle\, neue Gäste willkommen\, Link bei siri.gottschling@oi-gesellschaft.de oder dominik.geiser@oi-gesellschaft.de anfordern  🙂
URL:https://oi-gesellschaft.de/event/oi-stammtisch-online-131/
END:VEVENT
BEGIN:VEVENT
DTSTART;VALUE=DATE:20231103
DTEND;VALUE=DATE:20231105
DTSTAMP:20260422T003203
CREATED:20230816T225510Z
LAST-MODIFIED:20231103T220929Z
UID:29654-1698969600-1699142399@oi-gesellschaft.de
SUMMARY:ACHSE MV und Fachtagung
DESCRIPTION:
URL:https://oi-gesellschaft.de/event/achse-mv-und-fachtagung/
LOCATION:Berlin\nDeutschland
END:VEVENT
BEGIN:VEVENT
DTSTART;TZID=Europe/Berlin:20231104T090000
DTEND;TZID=Europe/Berlin:20231104T100000
DTSTAMP:20260422T003203
CREATED:20221107T121551Z
LAST-MODIFIED:20231103T220929Z
UID:27186-1699088400-1699092000@oi-gesellschaft.de
SUMMARY:GVS
DESCRIPTION:
URL:https://oi-gesellschaft.de/event/gvs/
LOCATION:Kassel-Wilhelmshöhe\nKassel\, Deutschland
END:VEVENT
BEGIN:VEVENT
DTSTART;TZID=Europe/Berlin:20231106T184500
DTEND;TZID=Europe/Berlin:20231106T200000
DTSTAMP:20260422T003203
CREATED:20230413T061558Z
LAST-MODIFIED:20231105T222507Z
UID:28375-1699296300-1699300800@oi-gesellschaft.de
SUMMARY:OI-Online-Yoga mit Friederike Mast
DESCRIPTION:
URL:https://oi-gesellschaft.de/event/oi-online-yoga-mit-friederike-mast-7/
END:VEVENT
BEGIN:VEVENT
DTSTART;TZID=Europe/Berlin:20231109T200000
DTEND;TZID=Europe/Berlin:20231109T233000
DTSTAMP:20260422T003203
CREATED:20230806T155057Z
LAST-MODIFIED:20231108T224341Z
UID:29562-1699560000-1699572600@oi-gesellschaft.de
SUMMARY:OI-Stammtisch online
DESCRIPTION:DOIG Stammtisch\, offen für alle\, neue Gäste willkommen\, Link bei siri.gottschling@oi-gesellschaft.de oder dominik.geiser@oi-gesellschaft.de anfordern  🙂
URL:https://oi-gesellschaft.de/event/oi-stammtisch-online-132/
END:VEVENT
BEGIN:VEVENT
DTSTART;TZID=Europe/Berlin:20231116T200000
DTEND;TZID=Europe/Berlin:20231116T233000
DTSTAMP:20260422T003203
CREATED:20230806T155058Z
LAST-MODIFIED:20231115T225432Z
UID:29563-1700164800-1700177400@oi-gesellschaft.de
SUMMARY:OI-Stammtisch online
DESCRIPTION:DOIG Stammtisch\, offen für alle\, neue Gäste willkommen\, Link bei siri.gottschling@oi-gesellschaft.de oder dominik.geiser@oi-gesellschaft.de anfordern  🙂
URL:https://oi-gesellschaft.de/event/oi-stammtisch-online-133/
END:VEVENT
BEGIN:VEVENT
DTSTART;TZID=Europe/Berlin:20231117T170000
DTEND;TZID=Europe/Berlin:20231119T130000
DTSTAMP:20260422T003203
CREATED:20230619T232451Z
LAST-MODIFIED:20231118T225434Z
UID:28911-1700240400-1700398800@oi-gesellschaft.de
SUMMARY:DOIG Erwachsenen-Seminar
DESCRIPTION:
URL:https://oi-gesellschaft.de/event/doig-erwachsenen-seminar-3/
LOCATION:Kassel-Wilhelmshöhe\nKassel\, Deutschland
END:VEVENT
BEGIN:VEVENT
DTSTART;TZID=Europe/Berlin:20231117T200000
DTEND;TZID=Europe/Berlin:20231117T210000
DTSTAMP:20260422T003203
CREATED:20231030T121211Z
LAST-MODIFIED:20231116T225431Z
UID:30164-1700251200-1700254800@oi-gesellschaft.de
SUMMARY:LV HRS: Elternrunde online (für alle Mitglieder)
DESCRIPTION:Der Landesverband Hessen – Rheinland-Pfalz – Saarland (HRS) lädt herzlich zu den kommenden Elternrunden ein! Sie treffen sich online\, um Erfahrungen zu teilen und sich gegenseitig zu unterstützen. Die Veranstaltungen stehen allen Mitgliedern offen\, unabhängig vom Landesverband. Anmeldung: Kontaktformular: https://oi-gesellschaft-hrs.de/kontakt
URL:https://oi-gesellschaft.de/event/lv-hrs-elternrunde-online-fuer-alle-mitglieder/
END:VEVENT
BEGIN:VEVENT
DTSTART;TZID=Europe/Berlin:20231123T200000
DTEND;TZID=Europe/Berlin:20231123T233000
DTSTAMP:20260422T003203
CREATED:20230806T155058Z
LAST-MODIFIED:20231122T231005Z
UID:29564-1700769600-1700782200@oi-gesellschaft.de
SUMMARY:OI-Stammtisch online
DESCRIPTION:DOIG Stammtisch\, offen für alle\, neue Gäste willkommen\, Link bei siri.gottschling@oi-gesellschaft.de oder dominik.geiser@oi-gesellschaft.de anfordern  🙂
URL:https://oi-gesellschaft.de/event/oi-stammtisch-online-134/
END:VEVENT
BEGIN:VEVENT
DTSTART;TZID=Europe/Berlin:20231126T120000
DTEND;TZID=Europe/Berlin:20231126T200000
DTSTAMP:20260422T003203
CREATED:20231121T230945Z
LAST-MODIFIED:20231125T232630Z
UID:30294-1701000000-1701028800@oi-gesellschaft.de
SUMMARY:LV HRS Weihnachtsfeier
DESCRIPTION:
URL:https://oi-gesellschaft.de/event/lv-hrs-weihnachtsfeier/
LOCATION:Kulturhalle Schanz\nCarl-Zeiss-Straße 6\, 63165 Mühlheim am Main\, Deutschland
END:VEVENT
BEGIN:VEVENT
DTSTART;TZID=Europe/Berlin:20231128T190000
DTEND;TZID=Europe/Berlin:20231128T213000
DTSTAMP:20260422T003203
CREATED:20221004T123800Z
LAST-MODIFIED:20231127T232602Z
UID:27001-1701198000-1701207000@oi-gesellschaft.de
SUMMARY:Frauenrunde mit Ayşe Şen-Mathussek und Elke Lippold-Jäger
DESCRIPTION:
URL:https://oi-gesellschaft.de/event/frauenrunde-mit-ayse-sen-mathussek-und-elke-lippold-jaeger-16/
END:VEVENT
BEGIN:VEVENT
DTSTART;TZID=Europe/Berlin:20231130T200000
DTEND;TZID=Europe/Berlin:20231130T233000
DTSTAMP:20260422T003203
CREATED:20230806T155058Z
LAST-MODIFIED:20231129T232607Z
UID:29565-1701374400-1701387000@oi-gesellschaft.de
SUMMARY:OI-Stammtisch online
DESCRIPTION:DOIG Stammtisch\, offen für alle\, neue Gäste willkommen\, Link bei siri.gottschling@oi-gesellschaft.de oder dominik.geiser@oi-gesellschaft.de anfordern  🙂
URL:https://oi-gesellschaft.de/event/oi-stammtisch-online-135/
END:VEVENT
END:VCALENDAR