BEGIN:VCALENDAR
VERSION:2.0
PRODID:-//Deutsche Gesellschaft für Osteogenesis imperfecta (Glasknochen) Betroffene e.V. - ECPv6.15.20//NONSGML v1.0//EN
CALSCALE:GREGORIAN
METHOD:PUBLISH
X-WR-CALNAME:Deutsche Gesellschaft für Osteogenesis imperfecta (Glasknochen) Betroffene e.V.
X-ORIGINAL-URL:https://oi-gesellschaft.de
X-WR-CALDESC:Veranstaltungen für Deutsche Gesellschaft für Osteogenesis imperfecta (Glasknochen) Betroffene e.V.
REFRESH-INTERVAL;VALUE=DURATION:PT1H
X-Robots-Tag:noindex
X-PUBLISHED-TTL:PT1H
BEGIN:VTIMEZONE
TZID:Europe/Berlin
BEGIN:DAYLIGHT
TZOFFSETFROM:+0100
TZOFFSETTO:+0200
TZNAME:CEST
DTSTART:20220327T010000
END:DAYLIGHT
BEGIN:STANDARD
TZOFFSETFROM:+0200
TZOFFSETTO:+0100
TZNAME:CET
DTSTART:20221030T010000
END:STANDARD
BEGIN:DAYLIGHT
TZOFFSETFROM:+0100
TZOFFSETTO:+0200
TZNAME:CEST
DTSTART:20230326T010000
END:DAYLIGHT
BEGIN:STANDARD
TZOFFSETFROM:+0200
TZOFFSETTO:+0100
TZNAME:CET
DTSTART:20231029T010000
END:STANDARD
BEGIN:DAYLIGHT
TZOFFSETFROM:+0100
TZOFFSETTO:+0200
TZNAME:CEST
DTSTART:20240331T010000
END:DAYLIGHT
BEGIN:STANDARD
TZOFFSETFROM:+0200
TZOFFSETTO:+0100
TZNAME:CET
DTSTART:20241027T010000
END:STANDARD
END:VTIMEZONE
BEGIN:VEVENT
DTSTART;VALUE=DATE:20231201
DTEND;VALUE=DATE:20231202
DTSTAMP:20260421T232043
CREATED:20230125T121621Z
LAST-MODIFIED:20231201T232611Z
UID:27731-1701388800-1701475199@oi-gesellschaft.de
SUMMARY:Erscheinungstermin Durchbruch 04/23
DESCRIPTION:
URL:https://oi-gesellschaft.de/event/erscheinungstermin-durchbruch-04-23/
END:VEVENT
BEGIN:VEVENT
DTSTART;TZID=Europe/Berlin:20231207T200000
DTEND;TZID=Europe/Berlin:20231207T233000
DTSTAMP:20260421T232043
CREATED:20230806T155059Z
LAST-MODIFIED:20231206T233212Z
UID:29566-1701979200-1701991800@oi-gesellschaft.de
SUMMARY:OI-Stammtisch online
DESCRIPTION:DOIG Stammtisch\, offen für alle\, neue Gäste willkommen\, Link bei siri.gottschling@oi-gesellschaft.de oder dominik.geiser@oi-gesellschaft.de anfordern  🙂
URL:https://oi-gesellschaft.de/event/oi-stammtisch-online-136/
END:VEVENT
BEGIN:VEVENT
DTSTART;TZID=Europe/Berlin:20231212T190000
DTEND;TZID=Europe/Berlin:20231212T203000
DTSTAMP:20260421T232043
CREATED:20231111T223927Z
LAST-MODIFIED:20231211T235044Z
UID:30232-1702407600-1702413000@oi-gesellschaft.de
SUMMARY:Männerrunde
DESCRIPTION:Anmeldung bitte mit Namen und Vornamen per E-Mail an anmeldung(at)oi-gesellschaft.de
URL:https://oi-gesellschaft.de/event/maennerrunde/
LOCATION:Zoom-Meeting
END:VEVENT
BEGIN:VEVENT
DTSTART;TZID=Europe/Berlin:20231214T200000
DTEND;TZID=Europe/Berlin:20231214T233000
DTSTAMP:20260421T232043
CREATED:20230806T155059Z
LAST-MODIFIED:20231214T220217Z
UID:29567-1702584000-1702596600@oi-gesellschaft.de
SUMMARY:OI-Stammtisch online
DESCRIPTION:DOIG Stammtisch\, offen für alle\, neue Gäste willkommen\, Link bei siri.gottschling@oi-gesellschaft.de oder dominik.geiser@oi-gesellschaft.de anfordern  🙂
URL:https://oi-gesellschaft.de/event/oi-stammtisch-online-137/
END:VEVENT
BEGIN:VEVENT
DTSTART;TZID=Europe/Berlin:20231221T200000
DTEND;TZID=Europe/Berlin:20231221T233000
DTSTAMP:20260421T232043
CREATED:20230806T155059Z
LAST-MODIFIED:20231220T223212Z
UID:29568-1703188800-1703201400@oi-gesellschaft.de
SUMMARY:OI-Stammtisch online
DESCRIPTION:DOIG Stammtisch\, offen für alle\, neue Gäste willkommen\, Link bei siri.gottschling@oi-gesellschaft.de oder dominik.geiser@oi-gesellschaft.de anfordern  🙂
URL:https://oi-gesellschaft.de/event/oi-stammtisch-online-138/
END:VEVENT
BEGIN:VEVENT
DTSTART;TZID=Europe/Berlin:20231228T200000
DTEND;TZID=Europe/Berlin:20231228T233000
DTSTAMP:20260421T232043
CREATED:20230806T155059Z
LAST-MODIFIED:20231227T223231Z
UID:29569-1703793600-1703806200@oi-gesellschaft.de
SUMMARY:OI-Stammtisch online
DESCRIPTION:DOIG Stammtisch\, offen für alle\, neue Gäste willkommen\, Link bei siri.gottschling@oi-gesellschaft.de oder dominik.geiser@oi-gesellschaft.de anfordern  🙂
URL:https://oi-gesellschaft.de/event/oi-stammtisch-online-139/
END:VEVENT
END:VCALENDAR