BEGIN:VCALENDAR
VERSION:2.0
PRODID:-//Deutsche Gesellschaft für Osteogenesis imperfecta (Glasknochen) Betroffene e.V. - ECPv6.15.20//NONSGML v1.0//EN
CALSCALE:GREGORIAN
METHOD:PUBLISH
X-ORIGINAL-URL:https://oi-gesellschaft.de
X-WR-CALDESC:Veranstaltungen für Deutsche Gesellschaft für Osteogenesis imperfecta (Glasknochen) Betroffene e.V.
REFRESH-INTERVAL;VALUE=DURATION:PT1H
X-Robots-Tag:noindex
X-PUBLISHED-TTL:PT1H
BEGIN:VTIMEZONE
TZID:Europe/Berlin
BEGIN:DAYLIGHT
TZOFFSETFROM:+0100
TZOFFSETTO:+0200
TZNAME:CEST
DTSTART:20230326T010000
END:DAYLIGHT
BEGIN:STANDARD
TZOFFSETFROM:+0200
TZOFFSETTO:+0100
TZNAME:CET
DTSTART:20231029T010000
END:STANDARD
BEGIN:DAYLIGHT
TZOFFSETFROM:+0100
TZOFFSETTO:+0200
TZNAME:CEST
DTSTART:20240331T010000
END:DAYLIGHT
BEGIN:STANDARD
TZOFFSETFROM:+0200
TZOFFSETTO:+0100
TZNAME:CET
DTSTART:20241027T010000
END:STANDARD
BEGIN:DAYLIGHT
TZOFFSETFROM:+0100
TZOFFSETTO:+0200
TZNAME:CEST
DTSTART:20250330T010000
END:DAYLIGHT
BEGIN:STANDARD
TZOFFSETFROM:+0200
TZOFFSETTO:+0100
TZNAME:CET
DTSTART:20251026T010000
END:STANDARD
END:VTIMEZONE
BEGIN:VEVENT
DTSTART;TZID=Europe/Berlin:20240201T200000
DTEND;TZID=Europe/Berlin:20240201T233000
DTSTAMP:20260421T203211
CREATED:20230806T155101Z
LAST-MODIFIED:20240201T221706Z
UID:29574-1706817600-1706830200@oi-gesellschaft.de
SUMMARY:OI-Stammtisch online
DESCRIPTION:DOIG Stammtisch\, offen für alle\, neue Gäste willkommen\, Link bei siri.gottschling@oi-gesellschaft.de oder dominik.geiser@oi-gesellschaft.de anfordern  🙂
URL:https://oi-gesellschaft.de/event/oi-stammtisch-online-144/
END:VEVENT
BEGIN:VEVENT
DTSTART;TZID=Europe/Berlin:20240208T200000
DTEND;TZID=Europe/Berlin:20240208T233000
DTSTAMP:20260421T203211
CREATED:20230806T155101Z
LAST-MODIFIED:20240207T224655Z
UID:29575-1707422400-1707435000@oi-gesellschaft.de
SUMMARY:OI-Stammtisch online
DESCRIPTION:DOIG Stammtisch\, offen für alle\, neue Gäste willkommen\, Link bei siri.gottschling@oi-gesellschaft.de oder dominik.geiser@oi-gesellschaft.de anfordern  🙂
URL:https://oi-gesellschaft.de/event/oi-stammtisch-online-145/
END:VEVENT
BEGIN:VEVENT
DTSTART;TZID=Europe/Berlin:20240209T200000
DTEND;TZID=Europe/Berlin:20240209T210000
DTSTAMP:20260421T203211
CREATED:20231030T121212Z
LAST-MODIFIED:20240208T224720Z
UID:30165-1707508800-1707512400@oi-gesellschaft.de
SUMMARY:LV HRS: Elternrunde online (für alle Mitglieder)
DESCRIPTION:Der Landesverband Hessen – Rheinland-Pfalz – Saarland (HRS) lädt herzlich zu den kommenden Elternrunden ein! Sie treffen sich online\, um Erfahrungen zu teilen und sich gegenseitig zu unterstützen. Die Veranstaltungen stehen allen Mitgliedern offen\, unabhängig vom Landesverband. Anmeldung: Kontaktformular: https://oi-gesellschaft-hrs.de/kontakt
URL:https://oi-gesellschaft.de/event/lv-hrs-elternrunde-online-fuer-alle-mitglieder-2/
END:VEVENT
BEGIN:VEVENT
DTSTART;VALUE=DATE:20240210
DTEND;VALUE=DATE:20240211
DTSTAMP:20260421T203211
CREATED:20230213T121808Z
LAST-MODIFIED:20240210T224704Z
UID:27857-1707523200-1707609599@oi-gesellschaft.de
SUMMARY:GVS DOIG
DESCRIPTION:
URL:https://oi-gesellschaft.de/event/gvs-doig/
END:VEVENT
BEGIN:VEVENT
DTSTART;TZID=Europe/Berlin:20240213T190000
DTEND;TZID=Europe/Berlin:20240213T210000
DTSTAMP:20260421T203211
CREATED:20240117T230219Z
LAST-MODIFIED:20240212T224924Z
UID:30664-1707850800-1707858000@oi-gesellschaft.de
SUMMARY:Online Männerrunde
DESCRIPTION:Die Männerrunde richtet sich an DOIG-Mitglieder\, Betroffene und Angehörige ab 18 Jahren. Der inhaltliche Fokus wird von den Teilnehmern selbst bestimmt. Am besten meldet ihr euch gleich an\, unter dem Betreff „Männerrunde“\, mit eurem Vor- und Nachnamen per E-Mail ananmeldung@oi-gesellschaft.de. Rechtzeitig vor dem Treffen erhaltet ihr einen Link mit den Einwahldaten.
URL:https://oi-gesellschaft.de/event/online-maennerrunde-2/
END:VEVENT
BEGIN:VEVENT
DTSTART;TZID=Europe/Berlin:20240215T200000
DTEND;TZID=Europe/Berlin:20240215T233000
DTSTAMP:20260421T203211
CREATED:20240131T220302Z
LAST-MODIFIED:20240214T230258Z
UID:30792-1708027200-1708039800@oi-gesellschaft.de
SUMMARY:OI-Stammtisch online
DESCRIPTION:DOIG Stammtisch\, offen für alle\, neue Gäste willkommen\, Link bei siri.gottschling@oi-gesellschaft.de oder dominik.geiser@oi-gesellschaft.de anfordern  ?
URL:https://oi-gesellschaft.de/event/oi-stammtisch-online-146/
END:VEVENT
BEGIN:VEVENT
DTSTART;TZID=Europe/Berlin:20240219T090000
DTEND;TZID=Europe/Berlin:20240219T100000
DTSTAMP:20260421T203211
CREATED:20231121T230947Z
LAST-MODIFIED:20240218T231712Z
UID:30297-1708333200-1708336800@oi-gesellschaft.de
SUMMARY:Redaktionsschluss Durchbruch 01/24
DESCRIPTION:
URL:https://oi-gesellschaft.de/event/redaktionsschluss-durchbruch-01-24/
END:VEVENT
BEGIN:VEVENT
DTSTART;TZID=Europe/Berlin:20240222T200000
DTEND;TZID=Europe/Berlin:20240222T233000
DTSTAMP:20260421T203211
CREATED:20240131T220303Z
LAST-MODIFIED:20240221T231718Z
UID:30793-1708632000-1708644600@oi-gesellschaft.de
SUMMARY:OI-Stammtisch online
DESCRIPTION:DOIG Stammtisch\, offen für alle\, neue Gäste willkommen\, Link bei siri.gottschling@oi-gesellschaft.de oder dominik.geiser@oi-gesellschaft.de anfordern  ?
URL:https://oi-gesellschaft.de/event/oi-stammtisch-online-147/
END:VEVENT
BEGIN:VEVENT
DTSTART;TZID=Europe/Berlin:20240227T190000
DTEND;TZID=Europe/Berlin:20240227T213000
DTSTAMP:20260421T203211
CREATED:20231120T230931Z
LAST-MODIFIED:20240226T234720Z
UID:30268-1709060400-1709069400@oi-gesellschaft.de
SUMMARY:Frauenrunde mit Ayşe Şen-Mathussek und Elke Lippold-Jäger
DESCRIPTION:
URL:https://oi-gesellschaft.de/event/frauenrunde-mit-ayse-sen-mathussek-und-elke-lippold-jaeger-18/
END:VEVENT
BEGIN:VEVENT
DTSTART;TZID=Europe/Berlin:20240229T200000
DTEND;TZID=Europe/Berlin:20240229T233000
DTSTAMP:20260421T203211
CREATED:20240131T220303Z
LAST-MODIFIED:20240229T220150Z
UID:30794-1709236800-1709249400@oi-gesellschaft.de
SUMMARY:OI-Stammtisch online
DESCRIPTION:DOIG Stammtisch\, offen für alle\, neue Gäste willkommen\, Link bei siri.gottschling@oi-gesellschaft.de oder dominik.geiser@oi-gesellschaft.de anfordern  ?
URL:https://oi-gesellschaft.de/event/oi-stammtisch-online-148/
END:VEVENT
END:VCALENDAR