BEGIN:VCALENDAR
VERSION:2.0
PRODID:-//Deutsche Gesellschaft für Osteogenesis imperfecta (Glasknochen) Betroffene e.V. - ECPv6.15.20//NONSGML v1.0//EN
CALSCALE:GREGORIAN
METHOD:PUBLISH
X-ORIGINAL-URL:https://oi-gesellschaft.de
X-WR-CALDESC:Veranstaltungen für Deutsche Gesellschaft für Osteogenesis imperfecta (Glasknochen) Betroffene e.V.
REFRESH-INTERVAL;VALUE=DURATION:PT1H
X-Robots-Tag:noindex
X-PUBLISHED-TTL:PT1H
BEGIN:VTIMEZONE
TZID:Europe/Berlin
BEGIN:DAYLIGHT
TZOFFSETFROM:+0100
TZOFFSETTO:+0200
TZNAME:CEST
DTSTART:20230326T010000
END:DAYLIGHT
BEGIN:STANDARD
TZOFFSETFROM:+0200
TZOFFSETTO:+0100
TZNAME:CET
DTSTART:20231029T010000
END:STANDARD
BEGIN:DAYLIGHT
TZOFFSETFROM:+0100
TZOFFSETTO:+0200
TZNAME:CEST
DTSTART:20240331T010000
END:DAYLIGHT
BEGIN:STANDARD
TZOFFSETFROM:+0200
TZOFFSETTO:+0100
TZNAME:CET
DTSTART:20241027T010000
END:STANDARD
BEGIN:DAYLIGHT
TZOFFSETFROM:+0100
TZOFFSETTO:+0200
TZNAME:CEST
DTSTART:20250330T010000
END:DAYLIGHT
BEGIN:STANDARD
TZOFFSETFROM:+0200
TZOFFSETTO:+0100
TZNAME:CET
DTSTART:20251026T010000
END:STANDARD
END:VTIMEZONE
BEGIN:VEVENT
DTSTART;VALUE=DATE:20240307
DTEND;VALUE=DATE:20240311
DTSTAMP:20260421T151928
CREATED:20240213T224730Z
LAST-MODIFIED:20240310T221655Z
UID:30926-1709769600-1710115199@oi-gesellschaft.de
SUMMARY:LV BaWü: Mütterwochenende
DESCRIPTION:
URL:https://oi-gesellschaft.de/event/lv-bawue-muetterwochenende/
END:VEVENT
BEGIN:VEVENT
DTSTART;TZID=Europe/Berlin:20240307T200000
DTEND;TZID=Europe/Berlin:20240307T233000
DTSTAMP:20260421T151928
CREATED:20240131T220304Z
LAST-MODIFIED:20240307T221651Z
UID:30795-1709841600-1709854200@oi-gesellschaft.de
SUMMARY:OI-Stammtisch online
DESCRIPTION:DOIG Stammtisch\, offen für alle\, neue Gäste willkommen\, Link bei siri.gottschling@oi-gesellschaft.de oder dominik.geiser@oi-gesellschaft.de anfordern  ?
URL:https://oi-gesellschaft.de/event/oi-stammtisch-online-149/
END:VEVENT
BEGIN:VEVENT
DTSTART;TZID=Europe/Berlin:20240314T190000
DTEND;TZID=Europe/Berlin:20240314T200000
DTSTAMP:20260421T151928
CREATED:20240213T224730Z
LAST-MODIFIED:20240313T221726Z
UID:30927-1710442800-1710446400@oi-gesellschaft.de
SUMMARY:LV Nord: Online-Veranstaltung zum Thema Recht
DESCRIPTION: Anmeldung per Mail an anmeldungen@oi-nord.de
URL:https://oi-gesellschaft.de/event/lv-nord-online-veranstaltung-zum-thema-recht/
END:VEVENT
BEGIN:VEVENT
DTSTART;TZID=Europe/Berlin:20240314T200000
DTEND;TZID=Europe/Berlin:20240314T233000
DTSTAMP:20260421T151928
CREATED:20240131T220304Z
LAST-MODIFIED:20240313T221726Z
UID:30796-1710446400-1710459000@oi-gesellschaft.de
SUMMARY:OI-Stammtisch online
DESCRIPTION:DOIG Stammtisch\, offen für alle\, neue Gäste willkommen\, Link bei siri.gottschling@oi-gesellschaft.de oder dominik.geiser@oi-gesellschaft.de anfordern  ?
URL:https://oi-gesellschaft.de/event/oi-stammtisch-online-150/
END:VEVENT
BEGIN:VEVENT
DTSTART;TZID=Europe/Berlin:20240321T200000
DTEND;TZID=Europe/Berlin:20240321T233000
DTSTAMP:20260421T151928
CREATED:20240131T220304Z
LAST-MODIFIED:20240320T225032Z
UID:30797-1711051200-1711063800@oi-gesellschaft.de
SUMMARY:OI-Stammtisch online
DESCRIPTION:DOIG Stammtisch\, offen für alle\, neue Gäste willkommen\, Link bei siri.gottschling@oi-gesellschaft.de oder dominik.geiser@oi-gesellschaft.de anfordern  ?
URL:https://oi-gesellschaft.de/event/oi-stammtisch-online-151/
END:VEVENT
BEGIN:VEVENT
DTSTART;TZID=Europe/Berlin:20240326T190000
DTEND;TZID=Europe/Berlin:20240326T213000
DTSTAMP:20260421T151928
CREATED:20231120T230932Z
LAST-MODIFIED:20240325T230307Z
UID:30269-1711479600-1711488600@oi-gesellschaft.de
SUMMARY:Frauenrunde mit Ayşe Şen-Mathussek und Elke Lippold-Jäger
DESCRIPTION:
URL:https://oi-gesellschaft.de/event/frauenrunde-mit-ayse-sen-mathussek-und-elke-lippold-jaeger-19/
END:VEVENT
BEGIN:VEVENT
DTSTART;TZID=Europe/Berlin:20240328T200000
DTEND;TZID=Europe/Berlin:20240328T233000
DTSTAMP:20260421T151928
CREATED:20240131T220305Z
LAST-MODIFIED:20240327T230204Z
UID:30798-1711656000-1711668600@oi-gesellschaft.de
SUMMARY:OI-Stammtisch online
DESCRIPTION:DOIG Stammtisch\, offen für alle\, neue Gäste willkommen\, Link bei siri.gottschling@oi-gesellschaft.de oder dominik.geiser@oi-gesellschaft.de anfordern  ?
URL:https://oi-gesellschaft.de/event/oi-stammtisch-online-152/
END:VEVENT
END:VCALENDAR