BEGIN:VCALENDAR
VERSION:2.0
PRODID:-//Deutsche Gesellschaft für Osteogenesis imperfecta (Glasknochen) Betroffene e.V. - ECPv6.15.20//NONSGML v1.0//EN
CALSCALE:GREGORIAN
METHOD:PUBLISH
X-ORIGINAL-URL:https://oi-gesellschaft.de
X-WR-CALDESC:Veranstaltungen für Deutsche Gesellschaft für Osteogenesis imperfecta (Glasknochen) Betroffene e.V.
REFRESH-INTERVAL;VALUE=DURATION:PT1H
X-Robots-Tag:noindex
X-PUBLISHED-TTL:PT1H
BEGIN:VTIMEZONE
TZID:Europe/Berlin
BEGIN:DAYLIGHT
TZOFFSETFROM:+0100
TZOFFSETTO:+0200
TZNAME:CEST
DTSTART:20230326T010000
END:DAYLIGHT
BEGIN:STANDARD
TZOFFSETFROM:+0200
TZOFFSETTO:+0100
TZNAME:CET
DTSTART:20231029T010000
END:STANDARD
BEGIN:DAYLIGHT
TZOFFSETFROM:+0100
TZOFFSETTO:+0200
TZNAME:CEST
DTSTART:20240331T010000
END:DAYLIGHT
BEGIN:STANDARD
TZOFFSETFROM:+0200
TZOFFSETTO:+0100
TZNAME:CET
DTSTART:20241027T010000
END:STANDARD
BEGIN:DAYLIGHT
TZOFFSETFROM:+0100
TZOFFSETTO:+0200
TZNAME:CEST
DTSTART:20250330T010000
END:DAYLIGHT
BEGIN:STANDARD
TZOFFSETFROM:+0200
TZOFFSETTO:+0100
TZNAME:CET
DTSTART:20251026T010000
END:STANDARD
END:VTIMEZONE
BEGIN:VEVENT
DTSTART;VALUE=DATE:20240428
DTEND;VALUE=DATE:20240504
DTSTAMP:20260421T123212
CREATED:20240213T224732Z
LAST-MODIFIED:20240503T232025Z
UID:30930-1714262400-1714780799@oi-gesellschaft.de
SUMMARY:LV Nord: Seminar: Loslassen – das Leben wartet nicht Für ein selbstbestimmtes Leben!
DESCRIPTION:Weitere Informationen: https://oi-nord.de/termindetails-2/seminar-in-cuxhaven-2024.html
URL:https://oi-gesellschaft.de/event/lv-nord-seminar-loslassen-das-leben-wartet-nicht-fuer-ein-selbstbestimmtes-leben/
LOCATION:Cuxhaven
END:VEVENT
BEGIN:VEVENT
DTSTART;TZID=Europe/Berlin:20240502T200000
DTEND;TZID=Europe/Berlin:20240502T233000
DTSTAMP:20260421T123212
CREATED:20240131T220307Z
LAST-MODIFIED:20240501T230654Z
UID:30804-1714680000-1714692600@oi-gesellschaft.de
SUMMARY:OI-Stammtisch online
DESCRIPTION:DOIG Stammtisch\, offen für alle\, neue Gäste willkommen\, Link bei siri.gottschling@oi-gesellschaft.de oder dominik.geiser@oi-gesellschaft.de anfordern  ?
URL:https://oi-gesellschaft.de/event/oi-stammtisch-online-157/
END:VEVENT
BEGIN:VEVENT
DTSTART;VALUE=DATE:20240504
DTEND;VALUE=DATE:20240506
DTSTAMP:20260421T123212
CREATED:20240416T124627Z
LAST-MODIFIED:20240505T232034Z
UID:31363-1714780800-1714953599@oi-gesellschaft.de
SUMMARY:LV NRW: Mobilitätswochenende
DESCRIPTION:
URL:https://oi-gesellschaft.de/event/lv-nrw-mobilitaetswochenende-2/
LOCATION:Dortmund\, 44 Dortmund\, Deutschland
END:VEVENT
BEGIN:VEVENT
DTSTART;TZID=Europe/Berlin:20240506T184500
DTEND;TZID=Europe/Berlin:20240506T200000
DTSTAMP:20260421T123212
CREATED:20240221T231719Z
LAST-MODIFIED:20240505T232034Z
UID:30982-1715021100-1715025600@oi-gesellschaft.de
SUMMARY:OI-Online-Yoga mit Friederike Mast
DESCRIPTION:
URL:https://oi-gesellschaft.de/event/oi-online-yoga-mit-friederike-mast-13/
END:VEVENT
BEGIN:VEVENT
DTSTART;TZID=Europe/Berlin:20240509T200000
DTEND;TZID=Europe/Berlin:20240509T233000
DTSTAMP:20260421T123212
CREATED:20240131T220307Z
LAST-MODIFIED:20240508T233735Z
UID:30805-1715284800-1715297400@oi-gesellschaft.de
SUMMARY:OI-Stammtisch online
DESCRIPTION:DOIG Stammtisch\, offen für alle\, neue Gäste willkommen\, Link bei siri.gottschling@oi-gesellschaft.de oder dominik.geiser@oi-gesellschaft.de anfordern  ?
URL:https://oi-gesellschaft.de/event/oi-stammtisch-online-158/
END:VEVENT
BEGIN:VEVENT
DTSTART;TZID=Europe/Berlin:20240516T200000
DTEND;TZID=Europe/Berlin:20240516T233000
DTSTAMP:20260421T123212
CREATED:20240131T220308Z
LAST-MODIFIED:20240515T220719Z
UID:30806-1715889600-1715902200@oi-gesellschaft.de
SUMMARY:OI-Stammtisch online
DESCRIPTION:DOIG Stammtisch\, offen für alle\, neue Gäste willkommen\, Link bei siri.gottschling@oi-gesellschaft.de oder dominik.geiser@oi-gesellschaft.de anfordern  ?
URL:https://oi-gesellschaft.de/event/oi-stammtisch-online-159/
END:VEVENT
BEGIN:VEVENT
DTSTART;TZID=Europe/Berlin:20240523T200000
DTEND;TZID=Europe/Berlin:20240523T233000
DTSTAMP:20260421T123212
CREATED:20240131T220308Z
LAST-MODIFIED:20240522T224129Z
UID:30807-1716494400-1716507000@oi-gesellschaft.de
SUMMARY:OI-Stammtisch online
DESCRIPTION:DOIG Stammtisch\, offen für alle\, neue Gäste willkommen\, Link bei siri.gottschling@oi-gesellschaft.de oder dominik.geiser@oi-gesellschaft.de anfordern  ?
URL:https://oi-gesellschaft.de/event/oi-stammtisch-online-160/
END:VEVENT
BEGIN:VEVENT
DTSTART;VALUE=DATE:20240524
DTEND;VALUE=DATE:20240525
DTSTAMP:20260421T123212
CREATED:20231121T230948Z
LAST-MODIFIED:20240524T224103Z
UID:30303-1716508800-1716595199@oi-gesellschaft.de
SUMMARY:Erscheinungstermin Durchbruch 02/24
DESCRIPTION:
URL:https://oi-gesellschaft.de/event/erscheinungstermin-durchbruch-02-24/
END:VEVENT
BEGIN:VEVENT
DTSTART;TZID=Europe/Berlin:20240528T200000
DTEND;TZID=Europe/Berlin:20240528T210000
DTSTAMP:20260421T123212
CREATED:20240418T220706Z
LAST-MODIFIED:20240522T224129Z
UID:31379-1716926400-1716930000@oi-gesellschaft.de
SUMMARY:DOIG-Frauenrunde mit Siri Gottschling (open end)
DESCRIPTION:Thema: Partnerschaften\, Freundschaften und Beziehungen
URL:https://oi-gesellschaft.de/event/doig-frauenrunde-mit-siri-gottschling-open-end/
END:VEVENT
BEGIN:VEVENT
DTSTART;VALUE=DATE:20240529
DTEND;VALUE=DATE:20240603
DTSTAMP:20260421T123212
CREATED:20230612T232450Z
LAST-MODIFIED:20240602T231105Z
UID:28887-1716940800-1717372799@oi-gesellschaft.de
SUMMARY:DOIG-Jahrestagung (40 Jahre DOIG)
DESCRIPTION:
URL:https://oi-gesellschaft.de/event/doig-jahrestagung-40-jahre-doig/
LOCATION:Jugendgästehaus Duderstadt\nAdenauerring 23\, 37115 Duderstadt\, Deutschland
END:VEVENT
END:VCALENDAR